Workbook

Sheet SAŽETAK
B1: IZVRŠENJE FINANCIJSKOG PLANA PRORAČUNSKOG KORISNIKA DRŽAVNOG PRORAČUNA ZA PRVO POLUGODIŠTE 2026. GODINE
B5: SAŽETAK RAČUNA PRIHODA I RASHODA I RAČUNA FINANCIRANJA
B7: SAŽETAK RAČUNA PRIHODA I RASHODA
B8: BROJČANA OZNAKA I NAZIV | G8: OSTVARENJE/IZVRŠENJE 1.-6.2025. | H8: IZVORNI PLAN 2024. | I8: TEKUĆI PLAN 2026. | J8: OSTVARENJE/IZVRŠENJE 1.-6.2026. | K8: INDEKS | L8: INDEKS**
B9: 1 | G9: 2 | H9: 3 | I9: 3 | J9: 4 | K9: 5=4/2*100 | L9: 6=4/3*100
B10: 6 PRIHODI POSLOVANJA | G10: 486277.21 | I10: 1821943 | J10: 430980.98 | K10: =(J10/G10)*100 -> 88.628661 | L10: =(J10/I10)*100 -> 23.65502
B11: 7 PRIHODI OD PRODAJE NEFINANCIJSKE IMOVINE | G11: 40 | I11: 15000 | J11: 1057.6 | K11: =(J11/G11)*100 -> 2644 | L11: =(J11/I11)*100 -> 7.0506667
B12: PRIHODI UKUPNO | G12: =SUM(G10:G11) -> 486317.21 | H12: =SUM(H10:H11) -> 0 | I12: =SUM(I10:I11) -> 1836943 | J12: =SUM(J10:J11) -> 432038.58 | K12: =(J12/G12)*100 -> 88.838842 | L12: =(J12/I12)*100 -> 23.519433
B13: 3 RASHODI POSLOVANJA | G13: 424380.16 | I13: 1401956 | J13: 435216.65 | K13: =(J13/G13)*100 -> 102.55349 | L13: =(J13/I13)*100 -> 31.043531
B14: 4 RASHODI ZA NABAVU NEFINANCIJSKE IMOVINE | G14: 18320.9 | I14: 468799 | J14: 205432.05 | K14: =(J14/G14)*100 -> 1121.2989 | L14: =(J14/I14)*100 -> 43.820923
B15: RASHODI UKUPNO | G15: =SUM(G13:G14) -> 442701.06 | H15: =SUM(H13:H14) -> 0 | I15: =SUM(I13:I14) -> 1870755 | J15: =SUM(J13:J14) -> 640648.7 | K15: =(J15/G15)*100 -> 144.71361 | L15: =(J15/I15)*100 -> 34.245462
B16: RAZLIKA - VIŠAK / MANJAK | G16: =G12-G15 -> 43616.15 | H16: =H12-H15 -> 0 | I16: =I12-I15 -> -33812 | J16: =J12-J15 -> -208610.12 | K16: =(J16/G16)*100 -> -478.28641 | L16: =(J16/I16)*100 -> 616.97066
B18: SAŽETAK RAČUNA FINANCIRANJA
B19: BROJČANA OZNAKA I NAZIV | G19: =G8 -> OSTVARENJE/IZVRŠENJE 1.-6.2025. | H19: =H8 -> IZVORNI PLAN 2024. | I19: =I8 -> TEKUĆI PLAN 2026. | J19: =J8 -> OSTVARENJE/IZVRŠENJE 1.-6.2026. | K19: INDEKS | L19: INDEKS**
B20: 1 | G20: 2 | H20: 3 | I20: 3 | J20: 4 | K20: 5=4/2*100 | L20: 6=4/3*100
B21: 8 PRIMICI OD FINANCIJSKE IMOVINE I ZADUŽIVANJA | G21: 0 | H21: 0 | I21: 0 | J21: 0 | K21: 0 | L21: 0
B22: 5 IZDACI ZA FINANCIJSKU IMOVINU I OTPLATE ZAJMOVA | G22: 0 | H22: 0 | I22: 0 | J22: 0 | K22: 0 | L22: 0
B23: RAZLIKA PRIMITAKA I IZDATAKA | G23: =SUM(G21:G22) -> 0 | H23: =SUM(H21:H22) -> 0 | I23: =SUM(I21:I22) -> 0 | J23: =SUM(J21:J22) -> 0 | K23: 0 | L23: 0
B24: PRIJENOS SREDSTAVA IZ PRETHODNE GODINE | G24: 143622.61 | I24: 33812 | J24: 285939.93 | K24: =(J24/G24)*100 -> 199.09117 | L24: =(J24/I24)*100 -> 845.67588
B25: PRIJENOS SREDSTAVA U SLJEDEĆE RAZDOBLJE | G25: -187238.76 | I25: 0 | J25: -77329.81 | K25: =(J25/G25)*100 -> 41.300108 | L25: 0
B26: NETO FINANCIRANJE | G26: =SUM(G24:G25) -> -43616.15 | H26: =SUM(H24:H25) -> 0 | I26: =SUM(I24:I25) -> 33812 | J26: =SUM(J24:J25) -> 208610.12 | K26: =(J26/G26)*100 -> -478.28641 | L26: =(J26/I26)*100 -> 616.97066
B27: VIŠAK/MANJAK + NETO FINANCIRANJE | G27: =G16+G26 -> 0 | H27: =H23+H26 -> 0 | I27: =I16+I26 -> 0 | J27: =J16+J26 -> 0 | K27: 0 | L27: 0
B30: Napomena: Iznosi u stupcu "OSTVARENJE/IZVRŠENJE 1.-6.2022." preračunavaju se iz kuna u eure prema fiksnom tečaju konverzije (1 EUR=7,53450 kuna) i po pravilima za preračunavanje i zaokruživanje.
B31: Napomena : Iznosi u stupcima "OSTVARENJE/IZVRŠENJE 1.-6.2022." i "OSTVARENJE/IZVRŠENJE 1.-6. 2023." iskazuju se na dvije decimale.
B32: * Opći i posebni dio polugodišnjeg izvještaja o izvršenju proračuna sadrži samo izvorni plan ako od donošenja proračuna nije bilo izmjena i dopuna niti izvršenih preraspodjela odnosno izvorni plan i tekući plan ako je od donošenja proračuna bilo naknadno izvršenih preraspodjela. Opći i posebni dio polugodišnjeg izvještaja o izvršenju proračuna sadrži rebalans ako je od donošenja proračuna bilo izmjena i dopuna, odnosno rebalans i tekući plan ako je od izmjena i dopuna proračuna bilo naknadno izvršenih preraspodjela.
B34: ** AKO Opći i Posebni dio polugodišnjeg izvještaja ne sadrži "TEKUĆI PLAN 2023.", "INDEKS"("OSTVARENJE/IZVRŠENJE 1.-6.2023."/"TEKUĆI PLAN 2023.") iskazuje se kao "OSTVARENJE/IZVRŠENJE 1.-6.2023."/"IZVORNI PLAN 2023." ODNOSNO "REBALANS 2023."

Sheet  Račun prihoda i rashoda
B1: I. OPĆI DIO
B3: RAČUN PRIHODA I RASHODA
B5: IZVJEŠTAJ O PRIHODIMA I RASHODIMA PREMA EKONOMSKOJ KLASIFIKACIJI
B7: BROJČANA OZNAKA I NAZIV | G7: =SAŽETAK!G8 -> OSTVARENJE/IZVRŠENJE 1.-6.2025. | H7: =SAŽETAK!I8 -> TEKUĆI PLAN 2026. | I7: =SAŽETAK!J8 -> OSTVARENJE/IZVRŠENJE 1.-6.2026. | J7: INDEKS | K7: INDEKS**
B8: 1 | G8: 2 | H8: 3 | I8: 4 | J8: 5=4/2*100 | K8: 6=4/3*100
B9: UKUPNO PRIHODI | G9: =SUM(G10,G49) -> 486317.21 | H9: =SUM(H10,H49) -> 1836943 | I9: =SUM(I10,I49) -> 432038.58 | J9: =(I9/G9)*100 -> 88.838842 | K9: =(I9/H9)*100 -> 23.519433
B10: 6 | F10: Prihodi poslovanja | G10: =SUM(G11,G27,G32,G35,G41,G45) -> 486277.21 | H10: =SUM(H11,H27,H32,H35,H41,H45) -> 1821943 | I10: =SUM(I11,I27,I32,I35,I41,I45) -> 430980.98 | J10: =(I10/G10)*100 -> 88.628661 | K10: =(I10/H10)*100 -> 23.65502
C11: 63 | F11: Pomoći iz inozemstva i od subjekata unutar općeg proračuna | G11: =SUM(G12,G15,G18,G21,G24) -> 143614.17 | H11: =SUM(H12,H15,H18,H21,H24) -> 458285 | I11: =SUM(I12,I15,I18,I21,I24) -> 49399.01 | J11: =(I11/G11)*100 -> 34.397031 | K11: =(I11/H11)*100 -> 10.779103
D12: 632 | F12: Pomoći od međunarodnih organizacija te institucija i tijela EU | G12: =SUM(G13:G14) -> 0 | H12: =SUM(H13:H14) -> 0 | I12: =SUM(I13:I14) -> 0 | J12: 0 | K12: 0
E13: 6323 | F13: Tekuće pomoći od institucija i tijela EU | G13: 0 | H13: 0 | I13: 0 | J13: 0 | K13: 0
E14: 6324 | F14: Kapitalne pomoći od institucija i tijela EU | G14: 0 | H14: 0 | I14: 0 | J14: 0 | K14: 0
D15: 634 | F15: Pomoći od izvanproračunskih korisnika | G15: =SUM(G16:G17) -> 10000 | H15: =SUM(H16:H17) -> 322967 | I15: =SUM(I16:I17) -> 0 | J15: 0 | K15: =(I15/H15)*100 -> 0
E16: 6341 | F16: Tekuće pomoći od izvanproračunskih korisnika | G16: 10000 | H16: 7280 | I16: 0 | J16: 0 | K16: =(I16/H16)*100 -> 0
E17: 6342 | F17: Kapitalne pomoći od ostalih subjekata unutar općeg proračuna | G17: 0 | H17: 315687 | I17: 0 | J17: 0 | K17: =(I17/H17)*100 -> 0
D18: 636 | F18: Pomoći proračunskim korisnicima iz proračuna koji im nije nadležan | G18: =SUM(G19:G20) -> 11000 | H18: =SUM(H19:H20) -> 0 | I18: =SUM(I19:I20) -> 0 | J18: 0 | K18: 0
E19: 6361 | F19: Tekuće pomoći proračunskim korisnicima iz proračuna koji im nije nadležan | G19: 0 | H19: 0 | I19: 0 | J19: 0 | K19: 0
E20: 6362 | F20: Kapitalne pomoći proračunskim korisnicima iz proračuna koji im nije nadležan | G20: 11000 | H20: 0 | I20: 0 | J20: 0 | K20: 0
D21: 638 | F21: Pomoći temeljem prijenosa EU sredstava | G21: =SUM(G22:G23) -> 11744.52 | H21: =SUM(H22:H23) -> 35318 | I21: =SUM(I22:I23) -> 19136.01 | J21: 0 | K21: =(I21/H21)*100 -> 54.182032
E22: 6381 | F22: Tekuće pomoći temeljem prijenosa EU sredstava | G22: 8627.88 | H22: 30518 | I22: 19136.01 | J22: 0 | K22: =(I22/H22)*100 -> 62.704011
E23: 6382 | F23: Kapitalne pomoći temeljem prijenosa EU sredstava | G23: 3116.64 | H23: 4800 | I23: 0 | J23: 0 | K23: =(I23/H23)*100 -> 0
D24: 639 | F24: Prijenosi između proračunskih korisnika istog proračuna | G24: =SUM(G25:G26) -> 110869.65 | H24: =SUM(H25:H26) -> 100000 | I24: =SUM(I25:I26) -> 30263 | J24: =(I24/G24)*100 -> 27.296018 | K24: =(I24/H24)*100 -> 30.263
E25: 6391 | F25: Tekući prijenosi između proračunskih korisnika istog proračuna | G25: 45605.45 | H25: 20000 | I25: 0 | J25: 0 | K25: =(I25/H25)*100 -> 0
E26: 6392 | F26: Kapitalni prijenosi između proračunskih korisnika istog proračuna | G26: 65264.2 | H26: 80000 | I26: 30263 | J26: =(I26/G26)*100 -> 46.369985 | K26: =(I26/H26)*100 -> 37.82875
C27: 64 | F27: Prihodi od imovine | G27: =SUM(G28) -> 0 | H27: =SUM(H28) -> 0 | I27: =SUM(I28) -> 43.04 | J27: 0 | K27: 0
D28: 641 | F28: Prihodi od financijske imovine | G28: =SUM(G29:G31) -> 0 | H28: =SUM(H29:H31) -> 0 | I28: =SUM(I29:I31) -> 43.04 | J28: 0 | K28: 0
E29: 6413 | F29: Kamate na oročena sredstva i depozite po viđenju | G29: 0 | H29: 0 | I29: 0 | J29: 0 | K29: 0
E30: 6414 | F30: Prihodi od zateznih kamata | G30: 0 | H30: 0 | I30: 43.04 | J30: 0 | K30: 0
E31: 6415 | F31: Prihodi od pozitivnih tečajnih razlika i razlika zbog primjene valutne klauzule | G31: 0 | H31: 0 | I31: 0 | J31: 0 | K31: 0
C32: 65 | F32: Prihodi od upravnih i administrativnih pristojbi po posebnim propisima i naknadama | G32: =G33 -> 45191.23 | H32: =H33 -> 110000 | I32: =I33 -> 57436.64 | J32: =(I32/G32)*100 -> 127.09687 | K32: =(I32/H32)*100 -> 52.215127
D33: 652 | F33: Prihodi po posebnim propisima | G33: =G34 -> 45191.23 | H33: =H34 -> 110000 | I33: =I34 -> 57436.64 | J33: =(I33/G33)*100 -> 127.09687 | K33: =(I33/H33)*100 -> 52.215127
E34: 6526 | F34: Ostali nespomenuti prihodi | G34: 45191.23 | H34: 110000 | I34: 57436.64 | J34: =(I34/G34)*100 -> 127.09687 | K34: =(I34/H34)*100 -> 52.215127
C35: 66 | F35: Prihodi od prodaje proizvoda i robe te pruženih usluga i prihodi od donacija | G35: =SUM(G36,G39) -> 40629.8 | H35: =SUM(H36,H39) -> 96000 | I35: =SUM(I36,I39) -> 42696.26 | J35: =(I35/G35)*100 -> 105.08607 | K35: =(I35/H35)*100 -> 44.475271
D36: 661 | F36: Prihodi od prodaje proizvoda i robe te pruženih usluga | G36: =SUM(G37:G38) -> 40629.8 | H36: =SUM(H37:H38) -> 91000 | I36: =SUM(I37:I38) -> 42624.22 | J36: =(I36/G36)*100 -> 104.90876 | K36: =(I36/H36)*100 -> 46.839802
E37: 6614 | F37: Prihodi od prodaje proizvoda i robe | G37: 11123.11 | H37: 21000 | I37: 12253.38 | J37: =(I37/G37)*100 -> 110.16146 | K37: =(I37/H37)*100 -> 58.349429
E38: 6615 | F38: Prihodi od pruženih usluga | G38: 29506.69 | H38: 70000 | I38: 30370.84 | J38: =(I38/G38)*100 -> 102.92866 | K38: =(I38/H38)*100 -> 43.386914
D39: 663 | F39: Donacije od pravnih i fizičkih osoba izvan općeg proračuna i povrat donacija po protestiranim jamstvima | G39: =G40 -> 0 | H39: =H40 -> 5000 | I39: =I40 -> 72.04 | J39: 0 | K39: =(I39/H39)*100 -> 1.4408
E40: 6631 | F40: Tekuće donacije | G40: 0 | H40: 5000 | I40: 72.04 | J40: 0 | K40: =(I40/H40)*100 -> 1.4408
C41: 67 | F41: Prihodi iz nadležnog proračuna i od HZZO-a temeljem ugovornih obveza | G41: =G42 -> 256842.01 | H41: =H42 -> 1157658 | I41: =I42 -> 281131.43 | J41: =(I41/G41)*100 -> 109.45695 | K41: =(I41/H41)*100 -> 24.284498
D42: 671 | F42: Prihodi iz nadležnog proračuna za financiranje redovne djelatnosti proračunskih korisnika | G42: =SUM(G43:G44) -> 256842.01 | H42: =SUM(H43:H44) -> 1157658 | I42: =SUM(I43:I44) -> 281131.43 | J42: =(I42/G42)*100 -> 109.45695 | K42: =(I42/H42)*100 -> 24.284498
E43: 6711 | F43: Prihodi iz nadležnog proračuna za financiranje rashoda poslovanja | G43: 256842.01 | H43: 1130458 | I43: 278649.52 | J43: =(I43/G43)*100 -> 108.49063 | K43: =(I43/H43)*100 -> 24.649259
E44: 6712 | F44: Prihodi za financiranje rashoda za nabavu nefinancijske imovine | G44: 0 | H44: 27200 | I44: 2481.91 | J44: 0 | K44: =(I44/H44)*100 -> 9.1246691
C45: 68 | F45: Kazne, upravne mjere i ostali prihodi | G45: =G47 -> 0 | H45: =H47 -> 0 | I45: =I47 -> 274.6 | J45: 0 | K45: 0
D46: 681 | F46: Kazne i upravne mjere | G46: =G48 -> 0 | H46: =H48 -> 0 | I46: =I48 -> 274.6 | J46: =(I46/G46)*100 -> #DIV/0! | K46: =(I46/H46)*100 -> #DIV/0!
D47: 638 | F47: Pomoći temeljem prijenosa EU sredstava | G47: =G48 -> 0 | H47: =H48 -> 0 | I47: =I48 -> 274.6 | J47: 0 | K47: 0
E48: 6831 | F48: Ostali prihodi | G48: 0 | H48: 0 | I48: 274.6 | J48: 0 | K48: 0
B49: 7 | F49: Prihodi od prodaje nefinancijske imovine | G49: =G50 -> 40 | H49: =H50 -> 15000 | I49: =I50 -> 1057.6 | J49: 0 | K49: 0
C50: 72 | F50: Prihodi od prodaje proizvedene dugotrajne imovine | G50: =SUM(G51,G53,G55) -> 40 | H50: =SUM(H51,H53,H55) -> 15000 | I50: =SUM(I51,I53,I55) -> 1057.6 | J50: =(I50/G50)*100 -> 2644 | K50: =(I50/H50)*100 -> 7.0506667
D51: 722 | F51: Prihodi od prodaje postrojenja i opreme | G51: =G52 -> 0 | H51: =H52 -> 0 | I51: =I52 -> 1057.6 | J51: 0 | K51: 0
E52: 7227 | F52: Uređaji, strojevi i oprema za ostale namjene | G52: 0 | H52: 0 | I52: 1057.6 | J52: 0 | K52: 0
D53: 723 | F53: Prihodi od prodaje prijevoznih sredstava | G53: =G54 -> 0 | H53: =H54 -> 15000 | I53: =I54 -> 0 | J53: 0 | K53: =(I53/H53)*100 -> 0
E54: 7231 | F54: Prijevozna sredstva u cestovnom prometu | G54: 0 | H54: 15000 | I54: 0 | J54: 0 | K54: =(I54/H54)*100 -> 0
D55: 725 | F55: Prihodi od prodaje višegodišnjih nasada i osnovnog stada | G55: =G56 -> 40 | H55: =H56 -> 0 | I55: =I56 -> 0 | J55: =(I55/G55)*100 -> 0 | K55: 0
E56: 7252 | F56: Osnovno stado | G56: 40 | H56: 0 | I56: 0 | J56: =(I56/G56)*100 -> 0 | K56: 0
B59: BROJČANA OZNAKA I NAZIV | G59: =G7 -> OSTVARENJE/IZVRŠENJE 1.-6.2025. | H59: =H7 -> TEKUĆI PLAN 2026. | I59: =I7 -> OSTVARENJE/IZVRŠENJE 1.-6.2026. | J59: INDEKS | K59: INDEKS**
B60: 1 | G60: 2 | H60: 4 | I60: 5 | J60: 6=5/2*100 | K60: 7=5/4*100
B61: UKUPNO RASHODI | G61: =SUM(G62,G112) -> 442701.06 | H61: =SUM(H62,H112) -> 1870755 | I61: =SUM(I62,I112) -> 640648.7 | J61: =(I61/G61)*100 -> 144.71361 | K61: =(I61/H61)*100 -> 34.245462
B62: 3 | F62: Rashodi poslovanja | G62: =SUM(G63,G71,G103,G109) -> 424380.16 | H62: =SUM(H63,H71,H103,H109) -> 1401956 | I62: =SUM(I63,I71,I103,I109) -> 435216.65 | J62: =(I62/G62)*100 -> 102.55349 | K62: =(I62/H62)*100 -> 31.043531
C63: 31 | F63: Rashodi za zaposlene | G63: =SUM(G64,G66,G68) -> 287929.23 | H63: =SUM(H64,H66,H68) -> 753936 | I63: =SUM(I64,I66,I68) -> 325603.51 | J63: =(I63/G63)*100 -> 113.08456 | K63: =(I63/H63)*100 -> 43.187155
D64: 311 | F64: Plaće (Bruto) | G64: =G65 -> 240933.75 | H64: =H65 -> 629777 | I64: =I65 -> 273479.1 | J64: =(I64/G64)*100 -> 113.50801 | K64: =(I64/H64)*100 -> 43.424752
E65: 3111 | F65: Plaće za redovan rad | G65: 240933.75 | H65: 629777 | I65: 273479.1 | J65: =(I65/G65)*100 -> 113.50801 | K65: =(I65/H65)*100 -> 43.424752
D66: 312 | F66: Ostali rashodi za zaposlene | G66: =G67 -> 7241.44 | H66: =H67 -> 18728 | I66: =I67 -> 7982.88 | J66: =(I66/G66)*100 -> 110.23885 | K66: =(I66/H66)*100 -> 42.625374
E67: 3121 | F67: Ostali rashodi za zaposlene | G67: 7241.44 | H67: 18728 | I67: 7982.88 | J67: =(I67/G67)*100 -> 110.23885 | K67: =(I67/H67)*100 -> 42.625374
D68: 313 | F68: Doprinosi na plaću | G68: =SUM(G69:G70) -> 39754.04 | H68: =SUM(H69:H70) -> 105431 | I68: =SUM(I69:I70) -> 44141.53 | J68: =(I68/G68)*100 -> 111.03659 | K68: =(I68/H68)*100 -> 41.867695
E69: 3131 | F69: Doprinosi za mirovinsko osiguranje | G69: 0 | H69: 0 | I69: 0 | J69: 0 | K69: 0
E70: 3132 | F70: Doprinosi za obvezno zdravstveno osiguranje | G70: 39754.04 | H70: 105431 | I70: 44141.53 | J70: =(I70/G70)*100 -> 111.03659 | K70: =(I70/H70)*100 -> 41.867695
C71: 32 | F71: Materijalni rashodi | G71: =SUM(G72,G77,G84,G94,G96) -> 135488.86 | H71: =SUM(H72,H77,H84,H94,H96) -> 642918 | I71: =SUM(I72,I77,I84,I94,I96) -> 108149.78 | J71: =(I71/G71)*100 -> 79.821898 | K71: =(I71/H71)*100 -> 16.821707
D72: 321 | F72: Naknade troškova zaposlenima | G72: =SUM(G73:G76) -> 15078.25 | H72: =SUM(H73:H76) -> 59729 | I72: =SUM(I73:I76) -> 15122.15 | J72: =(I72/G72)*100 -> 100.29115 | K72: =(I72/H72)*100 -> 25.317936
E73: 3211 | F73: Službena putovanja | G73: 1911.93 | H73: 9871 | I73: 1053.14 | J73: =(I73/G73)*100 -> 55.082561 | K73: =(I73/H73)*100 -> 10.66903
E74: 3212 | F74: Naknade za prijevoz, za rad na terenu i odvojeni život | G74: 11777.32 | H74: 37158 | I74: 13711.01 | J74: =(I74/G74)*100 -> 116.41876 | K74: =(I74/H74)*100 -> 36.899214
E75: 3213 | F75: Stručno usavršavanje zaposlenika | G75: 1389 | H75: 12700 | I75: 358 | J75: =(I75/G75)*100 -> 25.773938 | K75: =(I75/H75)*100 -> 2.8188976
E76: 3214 | F76: Ostale naknade troškova zaposlenima | G76: 0 | H76: 0 | I76: 0 | J76: 0 | K76: 0
D77: 322 | F77: Rashodi za materijal i energiju | G77: =SUM(G78:G83) -> 31478 | H77: =SUM(H78:H83) -> 61594 | I77: =SUM(I78:I83) -> 29326.68 | J77: =(I77/G77)*100 -> 93.165639 | K77: =(I77/H77)*100 -> 47.612884
E78: 3221 | F78: Uredski materijal i ostali materijalni rashodi | G78: 2114.42 | H78: 13714 | I78: 1011.48 | J78: =(I78/G78)*100 -> 47.837232 | K78: =(I78/H78)*100 -> 7.3755287
E79: 3222 | F79: Materijal i sirovine | G79: 9965.05 | H79: 10000 | I79: 8928.39 | J79: =(I79/G79)*100 -> 89.597042 | K79: =(I79/H79)*100 -> 89.2839
E80: 3223 | F80: Energija | G80: 10982.72 | H80: 23000 | I80: 10255 | J80: =(I80/G80)*100 -> 93.373955 | K80: =(I80/H80)*100 -> 44.586957
E81: 3224 | F81: Materijal i dijelovi za tekuće i investicijsko održavanje | G81: 4191.88 | H81: 7000 | I81: 6595.64 | J81: =(I81/G81)*100 -> 157.34324 | K81: =(I81/H81)*100 -> 94.223429
E82: 3225 | F82: Sitni inventar i auto gume | G82: 3861.61 | H82: 5880 | I82: 877.02 | J82: =(I82/G82)*100 -> 22.711253 | K82: =(I82/H82)*100 -> 14.915306
E83: 3227 | F83: Službena, radna i zaštitna odjeća i obuća | G83: 362.32 | H83: 2000 | I83: 1659.15 | J83: =(I83/G83)*100 -> 457.92393 | K83: =(I83/H83)*100 -> 82.9575
D84: 323 | F84: Rashodi za usluge | G84: =SUM(G85:G93) -> 60652.78 | H84: =SUM(H85:H93) -> 478403 | I84: =SUM(I85:I93) -> 38507.75 | J84: =(I84/G84)*100 -> 63.488846 | K84: =(I84/H84)*100 -> 8.0492284
E85: 3231 | F85: Usluge telefona, pošte i prijevoza | G85: 1212.34 | H85: 5600 | I85: 975.52 | J85: =(I85/G85)*100 -> 80.465876 | K85: =(I85/H85)*100 -> 17.42
E86: 3232 | F86: Usluge tekućeg i investicijskog održavanja | G86: 3881.33 | H86: 21611 | I86: 6698.2 | J86: =(I86/G86)*100 -> 172.57486 | K86: =(I86/H86)*100 -> 30.994401
E87: 3233 | F87: Usluge promidžbe i informiranja | G87: 2113.6 | H87: 23213 | I87: 7107.35 | J87: =(I87/G87)*100 -> 336.26751 | K87: =(I87/H87)*100 -> 30.617973
E88: 3234 | F88: Komunalne usluge | G88: 6441.15 | H88: 10700 | I88: 3910.3 | J88: =(I88/G88)*100 -> 60.708103 | K88: =(I88/H88)*100 -> 36.54486
E89: 3235 | F89: Zakupnine i najamnine | G89: 672.62 | H89: 1300 | I89: 1047.17 | J89: =(I89/G89)*100 -> 155.68523 | K89: =(I89/H89)*100 -> 80.551538
E90: 3236 | F90: Zdravstvene i veterinarske usluge | G90: 380.72 | H90: 1000 | I90: 1208.2 | J90: =(I90/G90)*100 -> 317.34608 | K90: =(I90/H90)*100 -> 120.82
E91: 3237 | F91: Intelektualne i osobne usluge | G91: 21210.34 | H91: 322771 | I91: 12190.52 | J91: =(I91/G91)*100 -> 57.47442 | K91: =(I91/H91)*100 -> 3.7768325
E92: 3238 | F92: Računalne usluge | G92: 23162.78 | H92: 27100 | I92: 3137.19 | J92: =(I92/G92)*100 -> 13.5441 | K92: =(I92/H92)*100 -> 11.576347
E93: 3239 | F93: Ostale usluge | G93: 1577.9 | H93: 65108 | I93: 2233.3 | J93: =(I93/G93)*100 -> 141.53622 | K93: =(I93/H93)*100 -> 3.4301468
D94: 324 | F94: Naknade troškova osobama izvan radnog odnosa | G94: =G95 -> 429.43 | H94: =H95 -> 2700 | I94: =I95 -> 363.1 | J94: =(I94/G94)*100 -> 84.553944 | K94: =(I94/H94)*100 -> 13.448148
E95: 3241 | F95: Naknade troškova osobama izvan radnog odnosa | G95: 429.43 | H95: 2700 | I95: 363.1 | J95: =(I95/G95)*100 -> 84.553944 | K95: =(I95/H95)*100 -> 13.448148
D96: 329 | F96: Ostali nespomenuti rashodi poslovanja | G96: =SUM(G97:G102) -> 27850.4 | H96: =SUM(H97:H102) -> 40492 | I96: =SUM(I97:I102) -> 24830.1 | J96: =(I96/G96)*100 -> 89.155272 | K96: =(I96/H96)*100 -> 61.321002
E97: 3291 | F97: Naknade za rad predstavničkih i izvršnih tijela, povjerenstava i slično | G97: 5069.45 | H97: 9842 | I97: 644.8 | J97: =(I97/G97)*100 -> 12.719329 | K97: =(I97/H97)*100 -> 6.5515139
E98: 3292 | F98: Premije osiguranja | G98: 21208.47 | H98: 22100 | I98: 21103.28 | J98: =(I98/G98)*100 -> 99.504019 | K98: =(I98/H98)*100 -> 95.489955
E99: 3293 | F99: Reprezentacija | G99: 833.13 | H99: 5000 | I99: 2178.05 | J99: =(I99/G99)*100 -> 261.42979 | K99: =(I99/H99)*100 -> 43.561
E100: 3294 | F100: Članarine i norme | G100: 0 | H100: 550 | I100: 0 | J100: 0 | K100: =(I100/H100)*100 -> 0
E101: 3295 | F101: Pristojbe i naknade | G101: 739.35 | H101: 3000 | I101: 903.97 | J101: =(I101/G101)*100 -> 122.2655 | K101: =(I101/H101)*100 -> 30.132333
E102: 3299 | F102: Ostali nespomenuti rashodi poslovanja | G102: 0 | H102: 0 | I102: 0 | J102: 0 | K102: 0
C103: 34 | F103: Financijski rashodi | G103: =G104 -> 792.16 | H103: =H104 -> 2002 | I103: =I104 -> 1430.09 | J103: =(I103/G103)*100 -> 180.53045 | K103: =(I103/H103)*100 -> 71.433067
D104: 343 | F104: Ostali financijski rashodi | G104: =SUM(G105:G108) -> 792.16 | H104: =SUM(H105:H108) -> 2002 | I104: =SUM(I105:I108) -> 1430.09 | J104: =(I104/G104)*100 -> 180.53045 | K104: =(I104/H104)*100 -> 71.433067
E105: 3431 | F105: Bankarske usluge i usluge platnog prometa | G105: 791.41 | H105: 2000 | I105: 1036.36 | J105: =(I105/G105)*100 -> 130.95109 | K105: =(I105/H105)*100 -> 51.818
...

Sheet Rashodi prema izvorima finan
B1: IZVJEŠTAJ O PRIHODIMA I RASHODIMA PREMA IZVORIMA FINANCIRANJA
B3: BROJČANA OZNAKA I NAZIV | C3: =' Račun prihoda i rashoda'!G7 -> OSTVARENJE/IZVRŠENJE 1.-6.2025. | D3: =' Račun prihoda i rashoda'!H7 -> TEKUĆI PLAN 2026. | E3: =' Račun prihoda i rashoda'!I7 -> OSTVARENJE/IZVRŠENJE 1.-6.2026. | F3: INDEKS | G3: INDEKS**
B4: 1 | C4: 2 | D4: 3 | E4: 4 | F4: 5=4/2*100 | G4: 6=4/3*100
B5: UKUPNO PRIHODI | C5: =SUM(C6,C8,C10,C12,C17,C19) -> 486317.21 | D5: =SUM(D6,D8,D10,D12,D17,D19) -> 1836943 | E5: =SUM(E6,E8,E10,E12,E17,E19) -> 432038.58 | F5: =(E5/C5)*100 -> 88.838842 | G5: =(E5/D5)*100 -> 23.519433
B6: 1 Opći prihodi i primici | C6: =C7 -> 256842.01 | D6: =D7 -> 700000 | E6: =E7 -> 273067.71 | F6: =(E6/C6)*100 -> 106.31739 | G6: =(E6/D6)*100 -> 39.009673
B7: 11 Opći prihodi i primici | C7: 256842.01 | D7: 700000 | E7: 273067.71 | F7: =(E7/C7)*100 -> 106.31739 | G7: =(E7/D7)*100 -> 39.009673
B8: 3 Vlastiti prihodi | C8: =C9 -> 40629.8 | D8: =D9 -> 91000 | E8: =E9 -> 42941.86 | F8: =(E8/C8)*100 -> 105.69055 | G8: =(E8/D8)*100 -> 47.188857
B9: 31 Vlastiti prihodi | C9: 40629.8 | D9: 91000 | E9: 42941.86 | F9: =(E9/C9)*100 -> 105.69055 | G9: =(E9/D9)*100 -> 47.188857
B10: 4 Prihodi za posebne namjene | C10: =C11 -> 45191.23 | D10: =D11 -> 110000 | E10: =E11 -> 56494.23 | F10: =(E10/C10)*100 -> 125.01149 | G10: =(E10/D10)*100 -> 51.358391
B11: 43 ostali prihodi za posebne namjene | C11: 45191.23 | D11: 110000 | E11: 56494.23 | F11: =(E11/C11)*100 -> 125.01149 | G11: =(E11/D11)*100 -> 51.358391
B12: 5 Pomoći | C12: =SUM(C13:C16) -> 143614.17 | D12: =SUM(D13:D16) -> 915943 | E12: =SUM(E13:E16) -> 57462.73 | F12: =(E12/C12)*100 -> 40.01188 | G12: =(E12/D12)*100 -> 6.2736142
B13: 50 Pomoći iz državnog proračuna | C13: 0 | D13: 100000 | E13: 30263 | F13: 0 | G13: =(E13/D13)*100 -> 30.263
B14: 51 Pomoći EU | C14: 0 | D14: 0 | E14: 0 | F14: 0 | G14: 0
B15: 52 Ostale pomoći | C15: 143614.17 | D15: 322967 | E15: 0 | F15: =(E15/C15)*100 -> 0 | G15: =(E15/D15)*100 -> 0
B16: 56 FONDOVI EU | C16: 0 | D16: 492976 | E16: 27199.73 | F16: 0 | G16: =(E16/D16)*100 -> 5.5174552
B17: 6 Donacije | C17: =C18 -> 0 | D17: =D18 -> 5000 | E17: =E18 -> 72.04 | F17: 0 | G17: =(E17/D17)*100 -> 1.4408
B18: 61 Donacije | C18: 0 | D18: 5000 | E18: 72.04 | F18: 0 | G18: =(E18/D18)*100 -> 1.4408
B19: 7 Prihodi od prodaje ili zamjene nefinancijske imovine i naknade s naslova osiguranja | C19: =C20 -> 40 | D19: =D20 -> 15000 | E19: =E20 -> 2000.01 | F19: =(E19/C19)*100 -> 5000.025 | G19: =(E19/D19)*100 -> 13.3334
B20: 71 Prihodi od prodaje ili zamjene nefinancijske imovine i naknade s naslova osiguranja | C20: 40 | D20: 15000 | E20: 2000.01 | F20: =(E20/C20)*100 -> 5000.025 | G20: =(E20/D20)*100 -> 13.3334
B23: BROJČANA OZNAKA I NAZIV | C23: =C3 -> OSTVARENJE/IZVRŠENJE 1.-6.2025. | D23: =D3 -> TEKUĆI PLAN 2026. | E23: =E3 -> OSTVARENJE/IZVRŠENJE 1.-6.2026. | F23: INDEKS | G23: INDEKS**
B24: 1 | C24: 2 | D24: 4 | E24: 5 | F24: 6=5/2*100 | G24: 7=5/4*100
B25: UKUPNO RASHODI | C25: =SUM(C26,C28,C30,C32,C37,C39) -> 442701.06 | D25: =SUM(D26,D28,D30,D32,D37,D39) -> 1870755 | E25: =SUM(E26,E28,E30,E32,E37,E39) -> 640648.7 | F25: =(E25/C25)*100 -> 144.71361 | G25: =(E25/D25)*100 -> 34.245462
B26: 1 Opći prihodi i primici | C26: =C27 -> 256842.01 | D26: =D27 -> 700000 | E26: =E27 -> 316179.2 | F26: =(E26/C26)*100 -> 123.1026 | G26: =(E26/D26)*100 -> 45.168457
B27: 11 Opći prihodi i primici | C27: ='[1]Posebni dio'!B21 -> 256842.01 | D27: ='[1]Posebni dio'!C21 -> 700000 | E27: ='[1]Posebni dio'!D21 -> 316179.2 | F27: =(E27/C27)*100 -> 123.1026 | G27: =(E27/D27)*100 -> 45.168457
B28: 3 Vlastiti prihodi | C28: =C29 -> 31723.59 | D28: =D29 -> 122023 | E28: =E29 -> 68043.54 | F28: =(E28/C28)*100 -> 214.48878 | G28: =(E28/D28)*100 -> 55.762881
B29: 31 Vlastiti prihodi | C29: ='[1]Posebni dio'!B22 -> 31723.59 | D29: ='[1]Posebni dio'!C22 -> 122023 | E29: ='[1]Posebni dio'!D22 -> 68043.54 | F29: =(E29/C29)*100 -> 214.48878 | G29: =(E29/D29)*100 -> 55.762881
B30: 4 Prihodi za posebne namjene | C30: =C31 -> 61097.16 | D30: =D31 -> 110000 | E30: =E31 -> 59242.42 | F30: =(E30/C30)*100 -> 96.964278 | G30: =(E30/D30)*100 -> 53.856745
B31: 43 ostali prihodi za posebne namjene | C31: ='[1]Posebni dio'!B23 -> 61097.16 | D31: ='[1]Posebni dio'!C23 -> 110000 | E31: ='[1]Posebni dio'!D23 -> 59242.42 | F31: =(E31/C31)*100 -> 96.964278 | G31: =(E31/D31)*100 -> 53.856745
B32: 5 Pomoći | C32: =SUM(C33:C36) -> 93038.3 | D32: =SUM(D33:D36) -> 918732 | E32: =SUM(E33:E36) -> 182757.53 | F32: =(E32/C32)*100 -> 196.43258 | G32: =(E32/D32)*100 -> 19.892366
B33: 50 Pomoći iz državnog proračuna | C33: ='[1]Posebni dio'!B24 -> 0 | D33: ='[1]Posebni dio'!C24 -> 100000 | E33: ='[1]Posebni dio'!D24 -> 88977.76 | F33: 0 | G33: =(E33/D33)*100 -> 88.97776
B34: 51 Pomoći EU | C34: ='[1]Posebni dio'!B25 -> 14555.25 | D34: ='[1]Posebni dio'!C25 -> 0 | E34: ='[1]Posebni dio'!D25 -> 0 | F34: =(E34/C34)*100 -> 0 | G34: 0
B35: 52 Ostale pomoći | C35: ='[1]Posebni dio'!B26 -> 78483.05 | D35: ='[1]Posebni dio'!C26 -> 325756 | E35: ='[1]Posebni dio'!D26 -> 66817.72 | F35: =(E35/C35)*100 -> 85.136498 | G35: =(E35/D35)*100 -> 20.511585
B36: 56 FONDOVI EU | C36: =SUM('[1]Posebni dio'!B27,'[1]Posebni dio'!B28,'[1]Posebni dio'!B29) -> 0 | D36: =SUM('[1]Posebni dio'!C27,'[1]Posebni dio'!C28,'[1]Posebni dio'!C29) -> 492976 | E36: =SUM('[1]Posebni dio'!D27,'[1]Posebni dio'!D28,'[1]Posebni dio'!D29) -> 26962.05 | F36: 0 | G36: =(E36/D36)*100 -> 5.4692419
B37: 6 Donacije | C37: =C38 -> 0 | D37: =D38 -> 5000 | E37: =E38 -> 10 | F37: 0 | G37: =(E37/D37)*100 -> 0.2
B38: 61 Donacije | C38: ='[1]Posebni dio'!B30 -> 0 | D38: ='[1]Posebni dio'!C30 -> 5000 | E38: ='[1]Posebni dio'!D30 -> 10 | F38: 0 | G38: =(E38/D38)*100 -> 0.2
B39: 7 Prihodi od prodaje ili zamjene nefinancijske imovine i naknade s naslova osiguranja | C39: =C40 -> 0 | D39: =D40 -> 15000 | E39: =E40 -> 14416.01 | F39: 0 | G39: =(E39/D39)*100 -> 96.106733
B40: 71 Prihodi od prodaje ili zamjene nefinancijske imovine i naknade s naslova osiguranja | C40: ='[1]Posebni dio'!B31 -> 0 | D40: ='[1]Posebni dio'!C31 -> 15000 | E40: ='[1]Posebni dio'!D31 -> 14416.01 | F40: 0 | G40: =(E40/D40)*100 -> 96.106733

Sheet Rashodi prema funkcijskoj k 
B1: IZVJEŠTAJ O RASHODIMA PREMA FUNKCIJSKOJ KLASIFIKACIJI
B3: BROJČANA OZNAKA I NAZIV | C3: ='Rashodi prema izvorima finan'!C3 -> OSTVARENJE/IZVRŠENJE 1.-6.2025. | D3: IZVORNI PLAN ILI REBALANS 2023.* | E3: ='Rashodi prema izvorima finan'!D3 -> TEKUĆI PLAN 2026. | F3: ='Rashodi prema izvorima finan'!E3 -> OSTVARENJE/IZVRŠENJE 1.-6.2026. | G3: INDEKS | H3: INDEKS**
B4: 1 | C4: 2 | D4: 3 | E4: 4 | F4: 5 | G4: 6=5/2*100 | H4: 7=5/4*100
B5: UKUPNO RASHODI | C5: =C6 -> 442701.06 | D5: =D6 -> 0 | E5: =E6 -> 1870755 | F5: =F6 -> 640648.7 | G5: =(F5/C5)*100 -> 144.71361 | H5: =(F5/E5)*100 -> 34.245462
B6: 05 Zaštita okoliša | C6: =C7 -> 442701.06 | D6: =D7 -> 0 | E6: =E7 -> 1870755 | F6: =F7 -> 640648.7 | G6: =(F6/C6)*100 -> 144.71361 | H6: =(F6/E6)*100 -> 34.245462
B7: 054 Zaštita bioraznolikosti i krajolika | C7: =C8 -> 442701.06 | E7: =E8 -> 1870755 | F7: =F8 -> 640648.7 | G7: =(F7/C7)*100 -> 144.71361 | H7: =(C7/E7)*100 -> 23.664299
B8: 0540 Zaštita bioraznolikosti i krajolika | C8: ='[1]Posebni dio'!B7 -> 442701.06 | D8: 375592.63 | E8: ='[1]Posebni dio'!C7 -> 1870755 | F8: ='[1]Posebni dio'!D7 -> 640648.7 | G8: =(F8/C8)*100 -> 144.71361 | H8: =(C8/E8)*100 -> 23.664299

Sheet Račun financiranja
B2: I. OPĆI DIO
B4: RAČUN FINANCIRANJA
B5: IZVJEŠTAJ RAČUNA FINANCIRANJA PREMA EKONOMSKOJ KLASIFIKACIJI
B7: BROJČANA OZNAKA I NAZIV | G7: ='Rashodi prema funkcijskoj k '!C3 -> OSTVARENJE/IZVRŠENJE 1.-6.2025. | H7: IZVORNI PLAN ILI REBALANS 2024.* | I7: ='Rashodi prema funkcijskoj k '!E3 -> TEKUĆI PLAN 2026. | J7: ='Rashodi prema funkcijskoj k '!F3 -> OSTVARENJE/IZVRŠENJE 1.-6.2026. | K7: INDEKS | L7: INDEKS**
B8: 1 | G8: 2 | H8: 3 | I8: 3 | J8: 4 | K8: 5=4/2*100 | L8: 6=4/3*100
B9: 8 | F9: Primici od financijske imovine i zaduživanja | G9: =G10 -> 0 | H9: =H10 -> 0 | I9: =I10 -> 0 | J9: =J10 -> 0 | K9: =K10 -> 0 | L9: =L10 -> 0
C10: 84 | F10: Primici od zaduživanja | G10: 0
D11: 841 | F11: Primljeni krediti i zajmovi od međunarodnih organizacija, institucija i tijela EU te inozemnih vlada
E12: 8413 | F12: Primljeni zajmovi od međunarodnih organizacija
E13: ….
B14: 5 | F14: Izdaci za financijsku imovinu i otplate zajmova | G14: =G15 -> 0 | H14: =H15 -> 0 | I14: =I15 -> 0 | J14: =J15 -> 0 | K14: =K15 -> 0 | L14: =L15 -> 0
C15: 54 | F15: Izdaci za otplatu glavnice primljenih kredita i zajmova | G15: 0 | H15: 0 | I15: 0 | J15: 0 | K15: 0 | L15: 0
D16: 541 | F16: Otplata glavnice primljenih kredita i zajmova od međunarodnih organizacija, institucija i tijela EU te inozemnih vlada
E17: 5413 | F17: Otplata glavnice primljenih zajmova od međunarodnih organizacija
F18: ….

Sheet Račun fin prema izvorima f
B2: IZVJEŠTAJ RAČUNA FINANCIRANJA PREMA IZVORIMA FINANCIRANJA
B4: BROJČANA OZNAKA I NAZIV | C4: ='Račun financiranja'!G7 -> OSTVARENJE/IZVRŠENJE 1.-6.2025. | D4: IZVORNI PLAN ILI REBALANS 2024.* | E4: ='Račun financiranja'!I7 -> TEKUĆI PLAN 2026. | F4: ='Račun financiranja'!J7 -> OSTVARENJE/IZVRŠENJE 1.-6.2026. | G4: INDEKS | H4: INDEKS**
B5: 1 | C5: 2 | D5: 3 | E5: 3 | F5: 4 | G5: 5=4/2*100 | H5: 6=4/3*100
B6: UKUPNO PRIMICI | C6: =SUM(C7,C9,C11,C13,C16,C18) -> 0 | D6: =SUM(D7,D9,D11,D13,D16,D18) -> 0 | E6: =SUM(E7,E9,E11,E13,E16,E18) -> 0 | F6: =SUM(F7,F9,F11,F13,F16,F18) -> 0
B7: 1 Opći prihodi i primici | C7: =C8 -> 0 | D7: =D8 -> 0 | E7: =E8 -> 0 | F7: =F8 -> 0 | G7: 0 | H7: 0
B8: 11 Opći prihodi i primici | G8: 0 | H8: 0
B9: 3 Vlastiti prihodi | C9: =C10 -> 0 | D9: =D10 -> 0 | E9: =E10 -> 0 | F9: =F10 -> 0 | G9: 0 | H9: 0
B10: 31 Vlastiti prihodi | G10: 0 | H10: 0
B11: 4 Prihodi za posebne namjene | C11: =C12 -> 0 | D11: =D12 -> 0 | E11: =E12 -> 0 | F11: =F12 -> 0 | G11: 0 | H11: 0
B12: 43 ostali prihodi za posebne namjene | G12: 0 | H12: 0
B13: 5 Pomoći | C13: =SUM(C14:C15) -> 0 | D13: =SUM(D14:D15) -> 0 | E13: =SUM(E14:E15) -> 0 | F13: =SUM(F14:F15) -> 0 | G13: 0 | H13: 0
B14: 51 Pomoći EU | G14: 0 | H14: 0
B15: 52 Ostale pomoći | G15: 0 | H15: 0
B16: 6 Donacije | C16: =C17 -> 0 | D16: =D17 -> 0 | E16: =E17 -> 0 | F16: =F17 -> 0 | G16: 0 | H16: 0
B17: 61 Donacije | G17: 0 | H17: 0
B18: 7 Prihodi od prodaje ili zamjene nefinancijske imovine i naknade s naslova osiguranja | C18: =C19 -> 0 | D18: =D19 -> 0 | E18: =E19 -> 0 | F18: =F19 -> 0 | G18: 0 | H18: 0
B19: 71 Prihodi od prodaje ili zamjene nefinancijske imovine i naknade s naslova osiguranja
B20: UKUPNO IZDACI | C20: =SUM(C21,C23,C25,C27,C30,C32) -> 0 | D20: =SUM(D21,D23,D25,D27,D30,D32) -> 0 | E20: =SUM(E21,E23,E25,E27,E30,E32) -> 0 | F20: =SUM(F21,F23,F25,F27,F30,F32) -> 0
B21: 1 Opći prihodi i primici | C21: =C22 -> 0 | D21: =D22 -> 0 | E21: =E22 -> 0 | F21: =F22 -> 0 | G21: =G22 -> 0 | H21: =H22 -> 0
B22: 11 Opći prihodi i primici
B23: 3 Vlastiti prihodi | C23: =C24 -> 0 | D23: =D24 -> 0 | E23: =E24 -> 0 | F23: =F24 -> 0 | G23: =G24 -> 0 | H23: =H24 -> 0
B24: 31 Vlastiti prihodi
B25: 4 Prihodi za posebne namjene | C25: =C26 -> 0 | D25: =D26 -> 0 | E25: =E26 -> 0 | F25: =F26 -> 0 | G25: =G26 -> 0 | H25: =H26 -> 0
B26: 43 ostali prihodi za posebne namjene
B27: 5 Pomoći | C27: =SUM(C28:C29) -> 0 | D27: =SUM(D28:D29) -> 0 | E27: =SUM(E28:E29) -> 0 | F27: =SUM(F28:F29) -> 0 | G27: =SUM(G28:G29) -> 0 | H27: =SUM(H28:H29) -> 0
B28: 51 Pomoći EU
B29: 52 Ostale pomoći
B30: 6 Donacije | C30: =C31 -> 0 | D30: =D31 -> 0 | E30: =E31 -> 0 | F30: =F31 -> 0 | G30: =G31 -> 0 | H30: =H31 -> 0
B31: 61 Donacije
B32: 7 Prihodi od prodaje ili zamjene nefinancijske imovine i naknade s naslova osiguranja | C32: =C33 -> 0 | D32: =D33 -> 0 | E32: =E33 -> 0 | F32: =F33 -> 0 | G32: =G33 -> 0 | H32: =H33 -> 0
B33: 71 Prihodi od prodaje ili zamjene nefinancijske imovine i naknade s naslova osiguranja

Sheet POSEBNI DIO
B1: II. POSEBNI DIO
B3: IZVJEŠTAJ PO PROGRAMSKOJ KLASIFIKACIJI
B5: BROJČANA OZNAKA I NAZIV | D5: ='Račun fin prema izvorima f'!C4 -> OSTVARENJE/IZVRŠENJE 1.-6.2025. | E5: ='Račun fin prema izvorima f'!E4 -> TEKUĆI PLAN 2026. | F5: ='Račun fin prema izvorima f'!F4 -> OSTVARENJE/IZVRŠENJE 1.-6.2026. | G5: INDEKS** | H5: INDEKS**
B6: 1 | D6: 2 | E6: 3 | F6: 4 | G6: 5=4/3*100 | H6: 6=4/2*100
B7: 7715 | C7: NACIONALNI PARKOVI I PARKOVI PRIRODE | D7: =D8 -> 442701.06 | E7: =E8 -> 1870755 | F7: =F8 -> 640648.7 | G7: =(F7/E7)*100 -> 34.245462 | H7: =F7/D7*100 -> 144.71361
B8: 22187 | C8: JAVNA USTANOVA NACIONALNI PARK RISNJAK | D8: =SUM(D9,D11,D13,D15,D20,D22) -> 442701.06 | E8: =SUM(E9,E11,E13,E15,E20,E22) -> 1870755 | F8: =SUM(F9,F11,F13,F15,F20,F22) -> 640648.7 | G8: =(F8/E8)*100 -> 34.245462 | H8: =F8/D8*100 -> 144.71361
B9: Izvor 1 | C9: Opći prihodi i primici | D9: =D10 -> 256842.01 | E9: =E10 -> 700000 | F9: =F10 -> 316179.2 | G9: =(F9/E9)*100 -> 45.168457 | H9: =F9/D9*100 -> 123.1026
B10: Izvor 11 | C10: Opći prihodi i primici | D10: =D28 -> 256842.01 | E10: =E28 -> 700000 | F10: =F28 -> 316179.2 | G10: =(F10/E10)*100 -> 45.168457 | H10: =F10/D10*100 -> 123.1026
B11: Izvor 3 | C11: Vlastiti prihodi | D11: =D12 -> 31723.59 | E11: =E12 -> 122023 | F11: =F12 -> 68043.54 | G11: =(F11/E11)*100 -> 55.762881 | H11: =F11/D11*100 -> 214.48878
B12: Izvor 31 | C12: Vlastiti prihodi | D12: =D52 -> 31723.59 | E12: =E52 -> 122023 | F12: =F52 -> 68043.54 | G12: =(F12/E12)*100 -> 55.762881 | H12: =F12/D12*100 -> 214.48878
B13: Izvor 4 | C13: Prihodi za posebne namjene | D13: =D14 -> 61097.16 | E13: =E14 -> 110000 | F13: =F14 -> 59242.42 | G13: =(F13/E13)*100 -> 53.856745 | H13: =F13/D13*100 -> 96.964278
B14: Izvor 43 | C14: Ostali prihodi za posebne namjene | D14: =D104 -> 61097.16 | E14: =E104 -> 110000 | F14: =F104 -> 59242.42 | G14: =(F14/E14)*100 -> 53.856745 | H14: =F14/D14*100 -> 96.964278
B15: Izvor 5 | C15: Pomoći | D15: =SUM(D16:D19) -> 93038.3 | E15: =SUM(E16:E19) -> 918732 | F15: =SUM(F16:F19) -> 182757.53 | G15: =(F15/E15)*100 -> 19.892366 | H15: =F15/D15*100 -> 196.43258
B16: Izvor 50 | C16: Pomoći iz državnog proračuna | D16: =D153 -> 0 | E16: =E153 -> 100000 | F16: =F153 -> 88977.76 | G16: 0 | H16: 0
B17: Izvor 51 | C17: Pomoći EU | D17: =D162 -> 14555.25 | E17: =E162 -> 0 | F17: =F162 -> 0 | G17: 0 | H17: =F17/D17*100 -> 0
B18: Izvor 52 | C18: Ostale pomoći | D18: =D185 -> 78483.05 | E18: =E185 -> 325756 | F18: =F185 -> 66817.72 | G18: =(F18/E18)*100 -> 20.511585 | H18: =F18/D18*100 -> 85.136498
B19: Izvor 56 | C19: FONDOVI EU | D19: =D235 -> 0 | E19: =E235 -> 492976 | F19: =F235 -> 26962.05 | G19: 0 | H19: 0
B20: Izvor 6 | C20: Donacije | D20: =D21 -> 0 | E20: =E21 -> 5000 | F20: =F21 -> 10 | G20: =(F20/E20)*100 -> 0.2 | H20: 0
B21: Izvor 61 | C21: Donacije | D21: =D215 -> 0 | E21: =E215 -> 5000 | F21: =F215 -> 10 | G21: =(F21/E21)*100 -> 0.2 | H21: 0
B22: Izvor 7 | C22: Prihodi od prodaje ili zamjene nefinancijske imovine i naknade s naslova osiguranja | D22: =D23 -> 0 | E22: =E23 -> 15000 | F22: =F23 -> 14416.01 | G22: =(F22/E22)*100 -> 96.106733 | H22: 0
B23: Izvor 71 | C23: Prihodi od prodaje ili zamjene nefinancijske imovine i naknade s naslova osiguranja | D23: =D221 -> 0 | E23: =E221 -> 15000 | F23: =F221 -> 14416.01 | G23: =(F23/E23)*100 -> 96.106733 | H23: 0
B24: 34 ZAŠTITA I OČUVANJE PRIRODE I OKOLIŠA | D24: =D25 -> 442701.06 | E24: =E25 -> 1277779 | F24: =F25 -> 524708.89 | G24: =(F24/E24)*100 -> 41.064135 | H24: =F24/D24*100 -> 118.52443
B25: PROGRAM: 3401 ZAŠTITA PRIRODE | D25: =SUM(D26,D50) -> 442701.06 | E25: =SUM(E26,E50) -> 1277779 | F25: =SUM(F26,F50) -> 524708.89 | G25: =(F25/E25)*100 -> 41.064135 | H25: =F25/D25*100 -> 118.52443
B26: A779000 - Administracija i upravljanje | D26: =D27 -> 256842.01 | E26: =E27 -> 700000 | F26: =F27 -> 316179.2 | G26: =(F26/E26)*100 -> 45.168457 | H26: =F26/D26*100 -> 123.1026
B27: Izvor: 1 Opći prihodi i primici | D27: =D28 -> 256842.01 | E27: =E28 -> 700000 | F27: =F28 -> 316179.2 | G27: =(F27/E27)*100 -> 45.168457 | H27: =F27/D27*100 -> 123.1026
B28: Izvor: 11 Opći prihodi i primici | D28: =SUM(D29,D43) -> 256842.01 | E28: =SUM(E29,E43) -> 700000 | F28: =SUM(F30,F34,F44,F48) -> 316179.2 | G28: =(F28/E28)*100 -> 45.168457 | H28: =F28/D28*100 -> 123.1026
B29: 3 Rashodi poslovanja | D29: =SUM(D30,D34) -> 256842.01 | E29: =SUM(E30,E34) -> 700000 | F29: =SUM(F30,F34) -> 316179.2 | G29: =(F29/E29)*100 -> 45.168457 | H29: =F29/D29*100 -> 123.1026
B30: 31 Rashodi za zaposlene | D30: =SUM(D31:D33) -> 247180.17 | E30: =SUM(E31:E33) -> 577360 | F30: =SUM(F31:F33) -> 281078.53 | G30: =(F30/E30)*100 -> 48.683409 | H30: =F30/D30*100 -> 113.71403
B31: 3111 Plaće za redovan rad | D31: 206814.39 | E31: 482368 | F31: 236118.6 | G31: =(F31/E31)*100 -> 48.949889 | H31: =F31/D31*100 -> 114.16933
B32: 3121 Ostali rashodi za zaposlene | D32: 6241.44 | E32: 13883 | F32: 6982.88 | G32: =(F32/E32)*100 -> 50.298062 | H32: =F32/D32*100 -> 111.87931
B33: 3132 Doprinosi za obvezno zdravstveno osiguranje | D33: 34124.34 | E33: 81109 | F33: 37977.05 | G33: =(F33/E33)*100 -> 46.822239 | H33: =F33/D33*100 -> 111.29021
B34: 32 Materijalni rashodi | D34: =SUM(D35:D42) -> 9661.84 | E34: =SUM(E35:E42) -> 122640 | F34: =SUM(F35:F42) -> 35100.67 | G34: =(F34/E34)*100 -> 28.620899 | H34: =F34/D34*100 -> 363.29177
B35: 3212 Naknade za prijevoz, za rad na terenu i odvojeni život | D35: 9661.84 | E35: 25752 | F35: 10755.03 | G35: =(F35/E35)*100 -> 41.763863 | H35: =F35/D35*100 -> 111.31451
B36: 3223 Energija | D36: 0 | E36: 20000 | F36: 483.13 | G36: =(F36/E36)*100 -> 2.41565 | H36: 0
B37: 3232 Usluge tekućeg i investicijskog održavanja | D37: 0 | E37: 3046 | F37: 0 | G37: =(F37/E37)*100 -> 0 | H37: 0
B38: 3234 Komunalne usluge | D38: 0 | E38: 10000 | F38: 1150.43 | G38: =(F38/E38)*100 -> 11.5043 | H38: 0
B39: 3237 Intelektualne i osobne usluge | D39: 0 | E39: 10000 | F39: 546.45 | G39: =(F39/E39)*100 -> 5.4645 | H39: 0
B40: 3238 Računalne usluge | D40: 0 | E40: 25000 | F40: 1960 | G40: =(F40/E40)*100 -> 7.84 | H40: 0
B41: 3291 Naknade za rad predstavničkih i izvršnih tijela, povjerenstava i slično | D41: 0 | E41: 8842 | F41: 644.8 | G41: =(F41/E41)*100 -> 7.2924678 | H41: 0
B42: 3292 Premije osiguranja | D42: 0 | E42: 20000 | F42: 19560.83 | G42: =(F42/E42)*100 -> 97.80415 | H42: 0
B43: 4 Rashodi za nabavu nefinancijske imovine | D43: =SUM(D44,D48) -> 0 | E43: =SUM(E44,E48) -> 0 | F43: =SUM(F44,F48) -> 0 | G43: 0 | H43: 0
B44: 42 Rashodi za nabavu proizvedene dugotrajne imovine | D44: =SUM(D45:D47) -> 0 | E44: =SUM(E45:E47) -> 0 | F44: =SUM(F45:F47) -> 0 | G44: 0 | H44: 0
B45: 4214 Ostali građevinski objekti | D45: 0 | E45: 0 | F45: 0 | G45: 0 | H45: 0
B46: 4221 Uredska oprema i namještaj | D46: 0 | E46: 0 | F46: 0 | G46: 0 | H46: 0
B47: 4227 Uređaji, strojevi i oprema za ostale namjene | D47: 0 | E47: 0 | F47: 0 | G47: 0 | H47: 0
B48: 45 Rashodi za dodatna ulaganja na građevinskim objektima | D48: =D49 -> 0 | E48: =E49 -> 0 | F48: =F49 -> 0 | G48: 0 | H48: 0
B49: 4511 Dodatna ulaganja na građevinskim objektima | D49: 0 | E49: 0 | F49: 0 | G49: 0 | H49: 0
B50: A779047 - Administracija i upravljanje (iz evidencijskih prihoda) | D50: =SUM(D51,D103,D152,D214,D220) -> 185859.05 | E50: =SUM(E51,E104,E152,E214,E220) -> 577779 | F50: =SUM(F51,F103,F152,F214,F220) -> 208529.69 | G50: =(F50/E50)*100 -> 36.091601 | H50: =F50/D50*100 -> 112.19776
B51: Izvor: 3 Vlastiti prihodi | D51: =D52 -> 31723.59 | E51: =E52 -> 122023 | F51: =F52 -> 68043.54 | G51: =(F51/E51)*100 -> 55.762881 | H51: =F51/D51*100 -> 214.48878
B52: Izvor: 31 Vlastiti prihodi | D52: =SUM(D53,D89) -> 31723.59 | E52: =SUM(E53,E89) -> 122023 | F52: =SUM(F53,F89) -> 68043.54 | G52: =(F52/E52)*100 -> 55.762881 | H52: =F52/D52*100 -> 214.48878
B53: 3 Rashodi poslovanja | D53: =SUM(D54,D58,D84) -> 31723.59 | E53: =SUM(E58,E54,E84) -> 104600 | F53: =SUM(F54,F58,F84) -> 65282.16 | G53: =(F53/E53)*100 -> 62.411243 | H53: =F53/D53*100 -> 205.78428
B54: 31 Rashodi za zaposlene | D54: =SUM(D55:D57) -> 12773.56 | E54: =SUM(E55:E57) -> 23802 | F54: =SUM(F55:F57) -> 16925.17 | G54: =(F54/E54)*100 -> 71.108184 | H54: =F54/D54*100 -> 132.50159
B55: 3111 Plaće za redovan rad | D55: 10621.07 | E55: 19830 | F55: 13841.35 | G55: =(F55/E55)*100 -> 69.80005 | H55: =F55/D55*100 -> 130.31973
B56: 3121 Ostali rashodi za zaposlene | D56: 400 | E56: 700 | F56: 800 | G56: =(F56/E56)*100 -> 114.28571 | H56: =F56/D56*100 -> 200
B57: 3132 Doprinosi za obvezno zdravstveno osiguranje | D57: 1752.49 | E57: 3272 | F57: 2283.82 | G57: =(F57/E57)*100 -> 69.7989 | H57: =F57/D57*100 -> 130.31858
B58: 32 Materijalni rashodi | D58: =SUM(D59:D83) -> 18157.87 | E58: =SUM(E59:E83) -> 78796 | F58: =SUM(F59:F83) -> 46926.9 | G58: =(F58/E58)*100 -> 59.554927 | H58: =F58/D58*100 -> 258.43835
B59: 3211 Službena putovanja | D59: 1404.71 | E59: 3000 | F59: 933.14 | G59: =(F59/E59)*100 -> 31.104667 | H59: =F59/D59*100 -> 66.42937
B60: 3212 Naknade za prijevoz, za rad na terenu i odvojeni život | D60: 697.8 | E60: 1600 | F60: 1741.39 | G60: =(F60/E60)*100 -> 108.83688 | H60: =F60/D60*100 -> 249.55431
B61: 3213 Stručno usavršavanje zaposlenika | D61: 670 | E61: 2000 | F61: 358 | G61: =(F61/E61)*100 -> 17.9 | H61: =F61/D61*100 -> 53.432836
B62: 3214 Ostale naknade troškova zaposlenima | D62: 0 | E62: 0 | F62: 0 | G62: 0 | H62: 0
B63: 3221 Uredski materijal i ostali materijalni rashodi | D63: 82.25 | E63: 3000 | F63: 157.3 | G63: =(F63/E63)*100 -> 5.2433333 | H63: =F63/D63*100 -> 191.2462
B64: 3222 Materijal i sirovine | D64: 607.1 | E64: 9000 | F64: 96.75 | G64: =(F64/E64)*100 -> 1.075 | H64: =F64/D64*100 -> 15.936419
B65: 3223 Energija | D65: 4198.9 | E65: 2000 | F65: 6611.96 | G65: =(F65/E65)*100 -> 330.598 | H65: =F65/D65*100 -> 157.46886
B66: 3224 Materijal i dijelovi za tekuće i investicijsko održavanje | D66: 794.73 | E66: 5000 | F66: 5418.86 | G66: =(F66/E66)*100 -> 108.3772 | H66: =F66/D66*100 -> 681.84918
B67: 3225 Sitni inventar i auto gume | D67: 1623.73 | E67: 2000 | F67: 557.88 | G67: =(F67/E67)*100 -> 27.894 | H67: =F67/D67*100 -> 34.357929
B68: 3227 Službena, radna i zaštitna odjeća i obuća | D68: 0 | E68: 1000 | F68: 1659.15 | G68: =(F68/E68)*100 -> 165.915 | H68: 0
B69: 3231 Usluge telefona, pošte i prijevoza | D69: 344.52 | E69: 2500 | F69: 975.52 | G69: =(F69/E69)*100 -> 39.0208 | H69: =F69/D69*100 -> 283.15337
B70: 3232 Usluge tekućeg i investicijskog održavanja | D70: 1324 | E70: 10000 | F70: 5770.35 | G70: =(F70/E70)*100 -> 57.7035 | H70: =F70/D70*100 -> 435.82704
B71: 3233 Usluge promidžbe i informiranja | D71: 201 | E71: 17000 | F71: 7107.35 | G71: =(F71/E71)*100 -> 41.807941 | H71: =F71/D71*100 -> 3535.995
B72: 3234 Komunalne usluge | D72: 2139.23 | E72: 600 | F72: 1877.68 | G72: =(F72/E72)*100 -> 312.94667 | H72: =F72/D72*100 -> 87.773638
B73: 3235 Zakupnine i najamnine | D73: 0 | E73: 1200 | F73: 1047.17 | G73: =(F73/E73)*100 -> 87.264167 | H73: 0
B74: 3236 Zdravstvene i veterinarske usluge | D74: 162.6 | E74: 500 | F74: 500 | G74: =(F74/E74)*100 -> 100 | H74: =F74/D74*100 -> 307.50308
B75: 3237 Intelektualne i osobne usluge | D75: 300 | E75: 3396 | F75: 4174.74 | G75: =(F75/E75)*100 -> 122.9311 | H75: =(F75/D75)*100 -> 1391.58
B76: 3238 Računalne usluge | D76: 1600 | E76: 2000 | F76: 1177.19 | G76: =(F76/E76)*100 -> 58.8595 | H76: =F76/D76*100 -> 73.574375
B77: 3239 Ostale usluge | D77: 638.87 | E77: 3000 | F77: 2233.3 | G77: =(F77/E77)*100 -> 74.443333 | H77: =F77/D77*100 -> 349.57034
B78: 3241 Naknade troškova osobama izvan radnog odnosa | D78: 429.43 | E78: 1000 | F78: 363.1 | G78: =(F78/E78)*100 -> 36.31 | H78: =F78/D78*100 -> 84.553944
B79: 3292 Premije osiguranja | D79: 0 | E79: 2000 | F79: 1542.45 | G79: =(F79/E79)*100 -> 77.1225 | H79: 0
B80: 3293 Reprezentacija | D80: 199.65 | E80: 3500 | F80: 1719.65 | G80: =(F80/E80)*100 -> 49.132857 | H80: =F80/D80*100 -> 861.33233
B81: 3294 Članarine i norme | D81: 0 | E81: 500 | F81: 0 | G81: =(F81/E81)*100 -> 0 | H81: 0
B82: 3295 Pristojbe i naknade | D82: 739.35 | E82: 3000 | F82: 903.97 | G82: =(F82/E82)*100 -> 30.132333 | H82: =F82/D82*100 -> 122.2655
B83: 3299 Ostali nespomenuti rashodi poslovanja | D83: 0 | E83: 0 | F83: 0 | G83: 0 | H83: 0
B84: 34 Financijski rashodi | D84: =SUM(D85:D88) -> 792.16 | E84: =SUM(E85:E88) -> 2002 | F84: =SUM(F85:F88) -> 1430.09 | G84: =(F84/E84)*100 -> 71.433067 | H84: =F84/D84*100 -> 180.53045
B85: 3431 Bankarske usluge i usluge platnog prometa | D85: 791.41 | E85: 2000 | F85: 1036.36 | G85: =(F85/E85)*100 -> 51.818 | H85: =F85/D85*100 -> 130.95109
B86: 3432 Negativne tečajne razlike i razlike zbog primjene valutne klauzule | D86: 0 | E86: 1 | F86: 0 | G86: =(F86/E86)*100 -> 0 | H86: 0
B87: 3433 Zatezne kamate | D87: 0.75 | E87: 1 | F87: 1.48 | G87: =(F87/E87)*100 -> 148 | H87: =F87/D87*100 -> 197.33333
B88: 3434 Ostali nespomenuti financijski rashodi | D88: 0 | E88: 0 | F88: 392.25 | G88: 0 | H88: 0
B89: 4 Rashodi za nabavu nefinancijske imovine | D89: =SUM(D90,D92,D101) -> 0 | E89: =SUM(E90,E92,E101) -> 17423 | F89: =SUM(F90,F92,F101) -> 2761.38 | G89: =(F89/E89)*100 -> 15.84905 | H89: 0
B90: 41 Rashodi za nabavu neproizvedene dugotrajne imovine | D90: =D91 -> 0 | E90: =E91 -> 2500 | F90: =F91 -> 0 | G90: =(F90/E90)*100 -> 0 | H90: 0
B91: 4124 Ostala prava | D91: 0 | E91: 2500 | F91: 0 | G91: =(F91/E91)*100 -> 0 | H91: 0
B92: 42 Rashodi za nabavu proizvedene dugotrajne imovine | D92: =SUM(D93:D100) -> 0 | E92: =SUM(E93:E100) -> 14923 | F92: =SUM(F93:F100) -> 2761.38 | G92: =(F92/E92)*100 -> 18.504188 | H92: 0
B93: 4214 Ostali građevinski objekti | D93: 0 | E93: 2820 | F93: 565.48 | G93: =(F93/E93)*100 -> 20.052482 | H93: 0
B94: 4221 Uredska oprema i namještaj | D94: 0 | E94: 1500 | F94: 1235.9 | G94: =(F94/E94)*100 -> 82.393333 | H94: 0
B95: 4222 Komunikacijska oprema | D95: 0 | E95: 500 | F95: 0 | G95: =(F95/E95)*100 -> 0 | H95: 0
B96: 4223 Oprema za održavanje i zaštitu | D96: 0 | E96: 100 | F96: 0 | G96: =(F96/E96)*100 -> 0 | H96: 0
B97: 4225 Instrumenti, uređaji i strojevi | D97: 0 | E97: 0 | F97: 0 | G97: 0 | H97: 0
B98: 4227 Uređaji, strojevi i oprema za ostale namjene | D98: 0 | E98: 100 | F98: 0 | G98: =(F98/E98)*100 -> 0 | H98: 0
B99: 4231 Prijevozna sredstva u cestovnom prometu | D99: 0 | E99: 9903 | F99: 0 | G99: =(F99/E99)*100 -> 0 | H99: 0
B100: 4264 Ostala nematerijalna proizvedena imovina | D100: 0 | E100: 0 | F100: 960 | G100: 0 | H100: 0
B101: 45 Rashodi za dodatna ulaganja na nefinancijskoj imovini | D101: =D102 -> 0 | F101: =F102 -> 0 | G101: 0 | H101: 0
B102: 4511 Dodatna ulaganja na građevinskim objektima | D102: 0 | E102: 0 | F102: 0 | G102: 0 | H102: 0
...
