Workbook

Sheet SAŽETAK
A1: FINANCIJSKI PLAN PRORAČUNSKOG KORISNIKA DRŽAVNOG PRORAČUNA ZA 2026. I PROJEKCIJE ZA 2027. I 2028. GODINU
A3: I. OPĆI DIO
A5: A. SAŽETAK RAČUNA PRIHODA I RASHODA
A7: BROJČANA OZNAKA I NAZIV | F7: IZVRŠENJE 2024. | G7: TEKUĆI PLAN 2025. | H7: PLAN ZA 2026. | I7: PROJEKCIJA ZA 2027. | J7: PROJEKCIJA ZA 2028.
A8: 1 | F8: 2 | G8: 3 | H8: 4 | I8: 5 | J8: 6
A9: 6 PRIHODI POSLOVANJA | F9: 864947.14 | G9: 1174769 | H9: =' Račun prihoda i rashoda-ek'!H11 -> 1821943 | I9: =' Račun prihoda i rashoda-ek'!I11 -> 2081985 | J9: =' Račun prihoda i rashoda-ek'!J11 -> 1994010
A10: 7 PRIHODI OD PRODAJE NEFINANCIJSKE IMOVINE | F10: 328 | G10: 0 | H10: =' Račun prihoda i rashoda-ek'!H48 -> 15000 | I10: =' Račun prihoda i rashoda-ek'!I48 -> 0 | J10: =' Račun prihoda i rashoda-ek'!J48 -> 0
A11: PRIHODI UKUPNO | F11: =SUM(F9:F10) -> 865275.14 | G11: =SUM(G9:G10) -> 1174769 | H11: =SUM(H9:H10) -> 1836943 | I11: =SUM(I9:I10) -> 2081985 | J11: =SUM(J9:J10) -> 1994010
A12: 3 RASHODI POSLOVANJA | F12: 804817.7 | G12: 964836 | H12: =' Račun prihoda i rashoda-ek'!H59 -> 1401956 | I12: =' Račun prihoda i rashoda-ek'!I59 -> 1397509 | J12: =' Račun prihoda i rashoda-ek'!J59 -> 1347532
A13: 4 RASHODI ZA NABAVU NEFINANCIJSKE IMOVINE | F13: 200752.66 | G13: 319744 | H13: =' Račun prihoda i rashoda-ek'!H108 -> 468799 | I13: =' Račun prihoda i rashoda-ek'!I108 -> 684476 | J13: =' Račun prihoda i rashoda-ek'!J108 -> 646478
A14: RASHODI UKUPNO | F14: =SUM(F12:F13) -> 1005570.4 | G14: =SUM(G12:G13) -> 1284580 | H14: =SUM(H12:H13) -> 1870755 | I14: =SUM(I12:I13) -> 2081985 | J14: =SUM(J12:J13) -> 1994010
A15: RAZLIKA - VIŠAK / MANJAK | F15: =F11-F14 -> -140295.22 | G15: =G11-G14 -> -109811 | H15: =H11-H14 -> -33812 | I15: =I11-I14 -> 0 | J15: =J11-J14 -> 0
A17: B. SAŽETAK RAČUNA FINANCIRANJA
A19: BROJČANA OZNAKA I NAZIV | F19: =F7 -> IZVRŠENJE 2024. | G19: =G7 -> TEKUĆI PLAN 2025. | H19: =H7 -> PLAN ZA 2026. | I19: =I7 -> PROJEKCIJA ZA 2027. | J19: =J7 -> PROJEKCIJA ZA 2028.
A20: 1 | F20: 2 | G20: 3 | H20: 4 | I20: 5 | J20: 6
A21: 8 PRIMICI OD FINANCIJSKE IMOVINE I ZADUŽIVANJA | F21: 0 | G21: 0 | H21: 0 | I21: 0 | J21: 0
A22: 5 IZDACI ZA FINANCIJSKU IMOVINU I OTPLATE ZAJMOVA | F22: 0 | G22: 0 | H22: 0 | I22: 0 | J22: 0
A23: RAZLIKA PRIMITAKA I IZDATAKA | F23: =SUM(F21:F22) -> 0 | G23: =SUM(G21:G22) -> 0 | H23: =SUM(H21:H22) -> 0 | I23: =SUM(I21:I22) -> 0 | J23: =SUM(J21:J22) -> 0
A24: PRIJENOS SREDSTAVA IZ PRETHODNE GODINE | F24: 283917.83 | G24: 143623 | H24: 33812 | I24: 0 | J24: 0
A25: PRIJENOS SREDSTAVA U SLJEDEĆE RAZDOBLJE | F25: -143622.61 | G25: -33812 | H25: 0 | I25: 0 | J25: 0
A26: NETO FINANCIRANJE | F26: =SUM(F24:F25) -> 140295.22 | G26: =SUM(G24:G25) -> 109811 | H26: =SUM(H24:H25) -> 33812 | I26: =SUM(I24:I25) -> 0 | J26: =SUM(J24:J25) -> 0
A27: VIŠAK / MANJAK + NETO FINANCIRANJE | F27: =F15+F26 -> 0 | G27: =G15+G26 -> 0 | H27: =H15+H26 -> 0 | I27: =I15+I26 -> 0 | J27: =J15+J26 -> 0

Sheet  Račun prihoda i rashoda-ek
A1: I. OPĆI DIO
A3: RAČUN PRIHODA I RASHODA
A5: IZVJEŠTAJ O PRIHODIMA I RASHODIMA PREMA EKONOMSKOJ KLASIFIKACIJI
A8: BROJČANA OZNAKA I NAZIV | F8: =SAŽETAK!F7 -> IZVRŠENJE 2024. | G8: =SAŽETAK!G7 -> TEKUĆI PLAN 2025. | H8: =SAŽETAK!H7 -> PLAN ZA 2026. | I8: =SAŽETAK!I7 -> PROJEKCIJA ZA 2027. | J8: =SAŽETAK!J7 -> PROJEKCIJA ZA 2028.
A9: 1 | F9: 2 | G9: 3 | H9: 4 | I9: 5 | J9: 6
A10: UKUPNO PRIHODI | F10: =SUM(F11,F48) -> 865275.14 | G10: =SUM(G11,G48) -> 1174769 | H10: =SUM(H11,H48) -> 1836943 | I10: =SUM(I11,I48) -> 2081985 | J10: =SUM(J11,J48) -> 1994010
A11: 6 | E11: Prihodi poslovanja | F11: =SUM(F12,F28,F32,F35,F41,F45) -> 864947.14 | G11: =SUM(G12,G28,G32,G35,G41,G45) -> 1174769 | H11: =SUM(H12,H28,H32,H35,H41,H45) -> 1821943 | I11: =SUM(I12,I28,I32,I35,I41,I45) -> 2081985 | J11: =SUM(J12,J28,J32,J35,J41,J45) -> 1994010
B12: 63 | E12: Pomoći iz inozemstva i od subjekata unutar općeg proračuna | F12: =SUM(F13,F16,F19,F22,F25) -> 146533.4 | G12: =SUM(G13,G16,G19,G22,G25) -> 395619 | H12: =SUM(H13,H16,H19,H22,H25) -> 458285 | I12: =SUM(I13,I16,I19,I22,I25) -> 702457 | J12: =SUM(J13,J16,J19,J22,J25) -> 675682
C13: 632 | E13: Pomoći od međunarodnih organizacija te institucija i tijela EU | F13: =SUM(F14:F15) -> 0 | G13: =SUM(G14:G15) -> 0 | H13: =SUM(H14:H15) -> 0 | I13: =SUM(I14:I15) -> 0 | J13: =SUM(J14:J15) -> 0
D14: 6323 | E14: Tekuće pomoći od institucija i tijela EU | F14: 0 | G14: 0 | H14: 0 | I14: 0 | J14: 0
D15: 6324 | E15: Kapitalne pomoći od institucija i tijela EU | F15: 0 | G15: 0 | H15: 0 | I15: 0 | J15: 0
C16: 634 | E16: Pomoći od izvanproračunskih korisnika | F16: =SUM(F17:F18) -> 11207.84 | G16: =SUM(G17:G18) -> 228280 | H16: =SUM(H17:H18) -> 322967 | I16: =SUM(I17:I18) -> 586276 | J16: =SUM(J17:J18) -> 575682
D17: 6341 | E17: Tekuće pomoći od izvanproračunskih korisnika | F17: 11207.84 | G17: 33000 | H17: 7280 | I17: 0 | J17: 10295
D18: 6342 | E18: Kapitalne pomoći od ostalih subjekata unutar općeg proračuna | F18: 0 | G18: 195280 | H18: 315687 | I18: 586276 | J18: 565387
C19: 636 | E19: Pomoći proračunskim korisnicima iz proračuna koji im nije nadležan | F19: =SUM(F20:F21) -> 0 | G19: =SUM(G20:G21) -> 22000 | H19: =SUM(H20:H21) -> 0 | I19: =SUM(I20:I21) -> 0 | J19: =SUM(J20:J21) -> 0
D20: 6361 | E20: Tekuće pomoći proračunskim korisnicima iz proračuna koji im nije nadležan | F20: 0 | G20: 0 | H20: 0 | I20: 0 | J20: 0
D21: 6362 | E21: Kapitalne pomoći proračunskim korisnicima iz proračuna koji im nije nadležan | F21: 0 | G21: 22000 | H21: 0 | I21: 0 | J21: 0
C22: 638 | E22: Pomoći temeljem prijenosa EU sredstava | F22: =SUM(F23:F24) -> 0 | G22: =SUM(G23:G24) -> 28739 | H22: =SUM(H23:H24) -> 35318 | I22: =SUM(I23:I24) -> 16181 | J22: =SUM(J23:J24) -> 0
D23: 6381 | E23: Tekuće pomoći temeljem prijenosa EU sredstava | F23: 0 | G23: 24310 | H23: 30518 | I23: 11381 | J23: 0
D24: 6382 | E24: Kapitalne pomoći temeljem prijenosa EU sredstava | F24: 0 | G24: 4429 | H24: 4800 | I24: 4800 | J24: 0
C25: 639 | E25: Prijenosi između proračunskih korisnika istog proračuna | F25: =SUM(F26:F27) -> 135325.56 | G25: =SUM(G26:G27) -> 116600 | H25: =SUM(H26:H27) -> 100000 | I25: =SUM(I26:I27) -> 100000 | J25: =SUM(J26:J27) -> 100000
D26: 6391 | E26: Tekući prijenosi između proračunskih korisnika istog proračuna | F26: 18300.26 | G26: 50000 | H26: 20000 | I26: 20000 | J26: 20000
D27: 6392 | E27: Kapitalni prijenosi između proračunskih korisnika istog proračuna | F27: 117025.3 | G27: 66600 | H27: 80000 | I27: 80000 | J27: 80000
B28: 64 | E28: Prihodi od imovine | F28: =SUM(F29) -> 0 | G28: =SUM(G29) -> 0 | H28: =SUM(H29) -> 0 | I28: =SUM(I29) -> 0 | J28: =SUM(J29) -> 0
C29: 641 | E29: Prihodi od financijske imovine | F29: =SUM(F30:F31) -> 0 | G29: =SUM(G30:G31) -> 0 | H29: =SUM(H30:H31) -> 0 | I29: =SUM(I30:I31) -> 0 | J29: =SUM(J30:J31) -> 0
D30: 6413 | E30: Kamate na oročena sredstva i depozite po viđenju | F30: 0 | G30: 0 | H30: 0 | I30: 0 | J30: 0
D31: 6415 | E31: Prihodi od pozitivnih tečajnih razlika i razlika zbog primjene valutne klauzule | F31: 0 | G31: 0 | H31: 0 | I31: 0 | J31: 0
B32: 65 | E32: Prihodi od upravnih i administrativnih pristojbi po posebnim propisima i naknadama | F32: =F33 -> 112223.81 | G32: =G33 -> 90000 | H32: =H33 -> 110000 | I32: =I33 -> 120000 | J32: =J33 -> 120000
C33: 652 | E33: Prihodi po posebnim propisima | F33: =F34 -> 112223.81 | G33: =G34 -> 90000 | H33: =H34 -> 110000 | I33: =I34 -> 120000 | J33: =J34 -> 120000
D34: 6526 | E34: Ostali nespomenuti prihodi | F34: 112223.81 | G34: 90000 | H34: 110000 | I34: 120000 | J34: 120000
B35: 66 | E35: Prihodi od prodaje proizvoda i robe te pruženih usluga i prihodi od donacija | F35: =SUM(F36,F39) -> 94493.51 | G35: =SUM(G36,G39) -> 88830 | H35: =SUM(H36,H39) -> 96000 | I35: =SUM(I36,I39) -> 100000 | J35: =SUM(J36,J39) -> 100000
C36: 661 | E36: Prihodi od prodaje proizvoda i robe te pruženih usluga | F36: =SUM(F37:F38) -> 90198.55 | G36: =SUM(G37:G38) -> 84000 | H36: =SUM(H37:H38) -> 91000 | I36: =SUM(I37:I38) -> 95000 | J36: =SUM(J37:J38) -> 95000
D37: 6614 | E37: Prihodi od prodaje proizvoda i robe | F37: 19393.11 | G37: 18000 | H37: 21000 | I37: 23000 | J37: 23000
D38: 6615 | E38: Prihodi od pruženih usluga | F38: 70805.44 | G38: 66000 | H38: 70000 | I38: 72000 | J38: 72000
C39: 663 | E39: Donacije od pravnih i fizičkih osoba izvan općeg proračuna i povrat donacija po protestiranim jamstvima | F39: =F40 -> 4294.96 | G39: =G40 -> 4830 | H39: =H40 -> 5000 | I39: =I40 -> 5000 | J39: =J40 -> 5000
D40: 6631 | E40: Tekuće donacije | F40: 4294.96 | G40: 4830 | H40: 5000 | I40: 5000 | J40: 5000
B41: 67 | E41: Prihodi iz nadležnog proračuna i od HZZO-a temeljem ugovornih obveza | F41: =F42 -> 511666.89 | G41: =G42 -> 600000 | H41: =H42 -> 1157658 | I41: =I42 -> 1159528 | J41: =J42 -> 1098328
C42: 671 | E42: Prihodi iz nadležnog proračuna za financiranje redovne djelatnosti proračunskih korisnika | F42: =SUM(F43:F44) -> 511666.89 | G42: =SUM(G43:G44) -> 600000 | H42: =SUM(H43:H44) -> 1157658 | I42: =SUM(I43:I44) -> 1159528 | J42: =SUM(J43:J44) -> 1098328
D43: 6711 | E43: Prihodi iz nadležnog proračuna za financiranje rashoda poslovanja | F43: 511666.89 | G43: 600000 | H43: 1130458 | I43: 1151028 | J43: 1094928 | K43: dodani prihodi iz izvora 56 -PKK
D44: 6712 | E44: Prihodi za financiranje rashoda za nabavu nefinancijske imovine | F44: 0 | G44: 0 | H44: 27200 | I44: 8500 | J44: 3400
...

Sheet  Račun prihoda i rashoda-iz
A2: A2. PRIHODI I RASHODI PREMA IZVORIMA FINANCIRANJA
A4: BROJČANA OZNAKA I NAZIV | B4: =SAŽETAK!F7 -> IZVRŠENJE 2024. | C4: =SAŽETAK!G7 -> TEKUĆI PLAN 2025. | D4: =SAŽETAK!H7 -> PLAN ZA 2026. | E4: =SAŽETAK!I7 -> PROJEKCIJA ZA 2027. | F4: =SAŽETAK!J7 -> PROJEKCIJA ZA 2028.
A5: 1 | B5: 2 | C5: 3 | D5: 4 | E5: 5 | F5: 6
A6: UKUPNO PRIHODI | B6: =SUM(B7,B9,B11,B13,B18,B20) -> 865275.14 | C6: =SUM(C7,C9,C11,C13,C18,C20) -> 1174769 | D6: =SUM(D7,D9,D11,D13,D18,D20) -> 1836943 | E6: =SUM(E7,E9,E11,E13,E18,E20) -> 2081985 | F6: =SUM(F7,F9,F11,F13,F18,F20) -> 1994010
A7: 1 Opći prihodi i primici | B7: =B8 -> 511666.89 | C7: =C8 -> 600000 | D7: =D8 -> 700000 | E7: =E8 -> 700000 | F7: =F8 -> 700000
A8: 11 Opći prihodi i primici | B8: 511666.89 | C8: 600000 | D8: 700000 | E8: 700000 | F8: 700000
A9: 3 Vlastiti prihodi | B9: =B10 -> 90228.08 | C9: =C10 -> 84320 | D9: =D10 -> 91000 | E9: =E10 -> 95000 | F9: =F10 -> 95000
A10: 31 Vlastiti prihodi | B10: 90228.08 | C10: 84320 | D10: 91000 | E10: 95000 | F10: 95000
A11: 4 Prihodi za posebne namjene | B11: =B12 -> 112223.81 | C11: =C12 -> 90000 | D11: =D12 -> 110000 | E11: =E12 -> 120000 | F11: =F12 -> 120000
A12: 43 ostali prihodi za posebne namjene | B12: 112223.81 | C12: 90000 | D12: 110000 | E12: 120000 | F12: 120000
A13: 5 Pomoći | B13: =SUM(B14:B17) -> 146533.4 | C13: =SUM(C14:C17) -> 395619 | D13: =SUM(D14:D17) -> 915943 | E13: =SUM(E14:E17) -> 1161985 | F13: =SUM(F14:F17) -> 1074010
A14: 50 Pomoći iz državnog proračuna | B14: 0 | C14: 0 | D14: 100000 | E14: 100000 | F14: 100000
A15: 51 Pomoći EU | B15: 0 | C15: 0 | D15: 0 | E15: 0 | F15: 0
A16: 52 Ostale pomoći | B16: 146533.4 | C16: 395619 | D16: 322967 | E16: 586276 | F16: 575682
A17: 56 Fondovi EU | B17: 0 | C17: 0 | D17: 492976 | E17: 475709 | F17: 398328
A18: 6 Donacije | B18: =B19 -> 4294.96 | C18: =C19 -> 4830 | D18: =D19 -> 5000 | E18: =E19 -> 5000 | F18: =F19 -> 5000
A19: 61 Donacije | B19: 4294.96 | C19: 4830 | D19: 5000 | E19: 5000 | F19: 5000
A20: 7 Prihodi od prodaje ili zamjene nefinancijske imovine i naknade s naslova osiguranja | B20: =B21 -> 328 | C20: =C21 -> 0 | D20: =D21 -> 15000 | E20: =E21 -> 0 | F20: =F21 -> 0
A21: 71 Prihodi od prodaje ili zamjene nefinancijske imovine i naknade s naslova osiguranja | B21: 328 | C21: 0 | D21: 15000 | E21: 0 | F21: 0
A23: UKUPNO RASHODI | B23: =SUM(B24,B26,B28,B30,B35,B37) -> 1005570.4 | C23: =SUM(C24,C26,C28,C30,C35,C37) -> 1284580 | D23: =SUM(D24,D26,D28,D30,D35,D37) -> 1870755 | E23: =SUM(E24,E26,E28,E30,E35,E37) -> 2081985 | F23: =SUM(F24,F26,F28,F30,F35,F37) -> 1994010
A24: 1 Opći prihodi i primici | B24: =B25 -> 511666.89 | C24: =C25 -> 600000 | D24: =D25 -> 700000 | E24: =E25 -> 700000 | F24: =F25 -> 700000
A25: 11 Opći prihodi i primici | B25: 511666.89 | C25: 600000 | D25: ='POSEBNI DIO'!F10 -> 700000 | E25: ='POSEBNI DIO'!G10 -> 700000 | F25: ='POSEBNI DIO'!H10 -> 700000
A26: 3 Vlastiti prihodi | B26: =B27 -> 193249.35 | C26: =C27 -> 96867 | D26: =D27 -> 122023 | E26: =E27 -> 95000 | F26: =F27 -> 95000
A27: 31 Vlastiti prihodi | B27: 193249.35 | C27: 96867 | D27: ='POSEBNI DIO'!F12 -> 122023 | E27: ='POSEBNI DIO'!G12 -> 95000 | F27: ='POSEBNI DIO'!H12 -> 95000
A28: 4 Prihodi za posebne namjene | B28: =B29 -> 132196.07 | C28: =C29 -> 169553 | D28: =D29 -> 110000 | E28: =E29 -> 120000 | F28: =F29 -> 120000
A29: 43 ostali prihodi za posebne namjene | B29: 132196.07 | C29: 169553 | D29: ='POSEBNI DIO'!F14 -> 110000 | E29: ='POSEBNI DIO'!G14 -> 120000 | F29: ='POSEBNI DIO'!H14 -> 120000
A30: 5 Pomoći | B30: =SUM(B31:B34) -> 162571.72 | C30: =SUM(C31:C34) -> 413330 | D30: =SUM(D31:D34) -> 918732 | E30: =SUM(E31:E34) -> 1161985 | F30: =SUM(F31:F34) -> 1074010
A31: 50 Pomoći iz državnog proračuna | B31: 0 | C31: 0 | D31: ='POSEBNI DIO'!F16 -> 100000 | E31: ='POSEBNI DIO'!G16 -> 100000 | F31: ='POSEBNI DIO'!H16 -> 100000
A32: 51 Pomoći EU | B32: 15622.68 | C32: 37362 | D32: ='POSEBNI DIO'!F17 -> 0 | E32: ='POSEBNI DIO'!G17 -> 0 | F32: ='POSEBNI DIO'!H17 -> 0
A33: 52 Ostale pomoći | B33: 146949.04 | C33: 375968 | D33: ='POSEBNI DIO'!F18 -> 325756 | E33: ='POSEBNI DIO'!G18 -> 586276 | F33: ='POSEBNI DIO'!H18 -> 575682
A34: 56 Fondovi EU | B34: 0 | C34: 0 | D34: ='POSEBNI DIO'!F19 -> 492976 | E34: ='POSEBNI DIO'!G19 -> 475709 | F34: ='POSEBNI DIO'!H19 -> 398328
A35: 6 Donacije | B35: =B36 -> 4295.13 | C35: =C36 -> 4830 | D35: =D36 -> 5000 | E35: =E36 -> 5000 | F35: =F36 -> 5000
A36: 61 Donacije | B36: 4295.13 | C36: 4830 | D36: ='POSEBNI DIO'!F21 -> 5000 | E36: ='POSEBNI DIO'!G21 -> 5000 | F36: ='POSEBNI DIO'!H21 -> 5000
A37: 7 Prihodi od prodaje ili zamjene nefinancijske imovine i naknade s naslova osiguranja | B37: =B38 -> 1591.2 | C37: =C38 -> 0 | D37: =D38 -> 15000 | E37: =E38 -> 0 | F37: =F38 -> 0
A38: 71 Prihodi od prodaje ili zamjene nefinancijske imovine i naknade s naslova osiguranja | B38: 1591.2 | C38: 0 | D38: ='POSEBNI DIO'!F23 -> 15000 | E38: ='POSEBNI DIO'!G23 -> 0 | F38: ='POSEBNI DIO'!H23 -> 0

Sheet  Račun rashoda-funkcija 
A2: A3. RASHODI PREMA FUNKCIJSKOJ KLASIFIKACIJI
A4: BROJČANA OZNAKA I NAZIV | B4: =SAŽETAK!F7 -> IZVRŠENJE 2024. | C4: =SAŽETAK!G7 -> TEKUĆI PLAN 2025. | D4: =SAŽETAK!H7 -> PLAN ZA 2026. | E4: =SAŽETAK!I7 -> PROJEKCIJA ZA 2027. | F4: =SAŽETAK!J7 -> PROJEKCIJA ZA 2028.
A5: 1 | B5: 2 | C5: 3 | D5: 4 | E5: 5 | F5: 6
A6: UKUPNO RASHODI | B6: =B7 -> 1005570.4 | C6: =C7 -> 1284580 | D6: =D7 -> 1870755 | E6: =E7 -> 2081985 | F6: =F7 -> 1994010
A7: 05 Zaštita okoliša | B7: =B8 -> 1005570.4 | C7: =C8 -> 1284580 | D7: =D8 -> 1870755 | E7: =E8 -> 2081985 | F7: =F8 -> 1994010
A8: 054 Zaštita bioraznolikosti i krajolika | B8: =B9 -> 1005570.4 | C8: =C9 -> 1284580 | D8: =D9 -> 1870755 | E8: =E9 -> 2081985 | F8: =F9 -> 1994010
A9: 0540 Zaštita bioraznolikosti i krajolika | B9: 1005570.4 | C9: ='POSEBNI DIO'!E24 -> 1284580 | D9: ='POSEBNI DIO'!F24 -> 1870755 | E9: ='POSEBNI DIO'!G24 -> 2081985 | F9: ='POSEBNI DIO'!H24 -> 1994010

Sheet  Račun financiranja-ekonoms 
A2: I. OPĆI DIO
A4: B. RAČUN FINANCIRANJA
A6: B1. RAČUN FINANCIRANJA PREMA EKONOMSKOJ KLASIFIKACIJI
A8: BROJČANA OZNAKA I NAZIV | D8: =SAŽETAK!F7 -> IZVRŠENJE 2024. | E8: =SAŽETAK!G7 -> TEKUĆI PLAN 2025. | F8: =SAŽETAK!H7 -> PLAN ZA 2026. | G8: =SAŽETAK!I7 -> PROJEKCIJA ZA 2027. | H8: =SAŽETAK!J7 -> PROJEKCIJA ZA 2028.
A9: 1 | D9: 2 | E9: 3 | F9: 4 | G9: 5 | H9: 6
A10: 8 | C10: Primici od financijske imovine i zaduživanja
B11: 84 | C11: Primici od zaduživanja
A12: …
A13: 5 | C13: Izdaci za financijsku imovinu i otplate zajmova
B14: 54 | C14: Izdaci za otplatu glavnice primljenih kredita i zajmova
A15: …

Sheet  Račun financiranja-izvori 
A2: B2. RAČUN FINANCIRANJA PREMA IZVORIMA FINANCIRANJA
A4: BROJČANA OZNAKA I NAZIV | B4: =' Račun financiranja-ekonoms '!D8 -> IZVRŠENJE 2024. | C4: =' Račun financiranja-ekonoms '!E8 -> TEKUĆI PLAN 2025. | D4: =' Račun financiranja-ekonoms '!F8 -> PLAN ZA 2026. | E4: =' Račun financiranja-ekonoms '!G8 -> PROJEKCIJA ZA 2027. | F4: =' Račun financiranja-ekonoms '!H8 -> PROJEKCIJA ZA 2028.
A5: 1 | B5: 2 | C5: 3 | D5: 4 | E5: 5 | F5: 6
A6: UKUPNO PRIMICI
A7: 1 Opći prihodi i primici
A8: 11 Opći prihodi i primici
A9: 12 Sredstva učešća za pomoći
A10: ….
A11: 2 Doprinosi
A12: 21 Doprinosi za mirovinsko osiguranje
A13: 3 Vlastiti prihodi
A14: 31 Vlastiti prihodi
A15: …
A17: UKUPNO IZDACI
A18: 1 Opći prihodi i primici
... A26: …

Sheet POSEBNI DIO
B2: II. POSEBNI DIO
B4: IZVJEŠTAJ PO PROGRAMSKOJ KLASIFIKACIJI
B6: BROJČANA OZNAKA I NAZIV | D6: =' Račun rashoda-funkcija '!B4 -> IZVRŠENJE 2024. | E6: =' Račun rashoda-funkcija '!C4 -> TEKUĆI PLAN 2025. | F6: =' Račun rashoda-funkcija '!D4 -> PLAN ZA 2026. | G6: =' Račun rashoda-funkcija '!E4 -> PROJEKCIJA ZA 2027. | H6: =' Račun rashoda-funkcija '!F4 -> PROJEKCIJA ZA 2028.
B7: 7715 | C7: NACIONALNI PARKOVI I PARKOVI PRIRODE | D7: =D8 -> 1005570.4 | E7: =E8 -> 1284580 | F7: =F8 -> 1870755 | G7: =G8 -> 2081985 | H7: =H8 -> 1994010
B8: 22187 | C8: JAVNA USTANOVA NACIONALNI PARK RISNJAK | D8: =SUM(D9,D11,D13,D15,D20,D22) -> 1005570.4 | E8: =SUM(E9,E11,E13,E15,E20,E22) -> 1284580 | F8: =SUM(F9,F11,F13,F15,F20,F22) -> 1870755 | G8: =SUM(G9,G11,G13,G15,G20,G22) -> 2081985 | H8: =SUM(H9,H11,H13,H15,H20,H22) -> 1994010
B9: Izvor 1 | C9: Opći prihodi i primici | D9: =D10 -> 511666.89 | E9: =E10 -> 600000 | F9: =F10 -> 700000 | G9: =G10 -> 700000 | H9: =H10 -> 700000
B10: Izvor 11 | C10: Opći prihodi i primici | D10: =D27 -> 511666.89 | E10: =E27 -> 600000 | F10: =F28 -> 700000 | G10: =G28 -> 700000 | H10: =H28 -> 700000
B11: Izvor 3 | C11: Vlastiti prihodi | D11: =D12 -> 193249.35 | E11: =E12 -> 96867 | F11: =F12 -> 122023 | G11: =G12 -> 95000 | H11: =H12 -> 95000
B12: Izvor 31 | C12: Vlastiti prihodi | D12: =D54 -> 193249.35 | E12: =E54 -> 96867 | F12: =F54 -> 122023 | G12: =G54 -> 95000 | H12: =H54 -> 95000
B13: Izvor 4 | C13: Prihodi za posebne namjene | D13: =D14 -> 132196.07 | E13: =E14 -> 169553 | F13: =F14 -> 110000 | G13: =G14 -> 120000 | H13: =H14 -> 120000
B14: Izvor 43 | C14: Ostali prihodi za posebne namjene | D14: =D105 -> 132196.07 | E14: =E105 -> 169553 | F14: =F105 -> 110000 | G14: =G105 -> 120000 | H14: =H105 -> 120000
B15: Izvor 5 | C15: Pomoći | D15: =SUM(D16:D19) -> 162571.72 | E15: =SUM(E16:E19) -> 413330 | F15: =SUM(F16:F19) -> 918732 | G15: =SUM(G16:G19) -> 1161985 | H15: =SUM(H16:H19) -> 1074010
B16: Izvor 50 | C16: Pomoći iz državnog proračuna | D16: 0 | E16: 0 | F16: =F170 -> 100000 | G16: =G170 -> 100000 | H16: =H170 -> 100000
B17: Izvor 51 | C17: Pomoći EU | D17: =D179 -> 15622.68 | E17: =E179 -> 37362 | F17: =F179 -> 0 | G17: =G179 -> 0 | H17: =H179 -> 0
B18: Izvor 52 | C18: Ostale pomoći | D18: =D200 -> 146949.04 | E18: =E200 -> 375968 | F18: =F200 -> 325756 | G18: =G200 -> 586276 | H18: =H200 -> 575682
B19: Izvor 56 | C19: Fondovi EU | D19: 0 | E19: 0 | F19: =SUM(F255,F281) -> 492976 | G19: =SUM(G255,G281) -> 475709 | H19: =SUM(H255,H281) -> 398328
B20: Izvor 6 | C20: Donacije | D20: =D21 -> 4295.13 | E20: =E21 -> 4830 | F20: =F21 -> 5000 | G20: =G21 -> 5000 | H20: =H21 -> 5000
B21: Izvor 61 | C21: Donacije | D21: =D233 -> 4295.13 | E21: =E233 -> 4830 | F21: =F233 -> 5000 | G21: =G233 -> 5000 | H21: =H233 -> 5000
B22: Izvor 7 | C22: Prihodi od prodaje ili zamjene nefinancijske imovine i naknade s naslova osiguranja | D22: =D23 -> 1591.2 | E22: =E23 -> 0 | F22: =F23 -> 15000 | G22: =G23 -> 0 | H22: =H23 -> 0
B23: Izvor 71 | C23: Prihodi od prodaje ili zamjene nefinancijske imovine i naknade s naslova osiguranja | D23: =D240 -> 1591.2 | E23: =E240 -> 0 | F23: =F240 -> 15000 | G23: =G240 -> 0 | H23: =H240 -> 0
B24: 34 ZAŠTITA I OČUVANJE PRIRODE I OKOLIŠA | D24: =D25 -> 1005570.4 | E24: =E25 -> 1284580 | F24: =F25 -> 1870755 | G24: =G25 -> 2081985 | H24: =H25 -> 1994010
B25: PROGRAM: 3401 ZAŠTITA PRIRODE | D25: =SUM(D26,D52) -> 1005570.4 | E25: =SUM(E26,E52) -> 1284580 | F25: =SUM(F26,F52,F254,F280) -> 1870755 | G25: =SUM(G26,G52,G254,G280) -> 2081985 | H25: =SUM(H26,H52,H254,H280) -> 1994010
B26: A779000 - Administracija i upravljanje | D26: =D27 -> 511666.89 | E26: =E27 -> 600000 | F26: =F27 -> 700000 | G26: =G27 -> 700000 | H26: =H27 -> 700000
B27: Izvor: 1 Opći prihodi i primici | D27: =D28 -> 511666.89 | E27: =E28 -> 600000 | F27: =F28 -> 700000 | G27: =G28 -> 700000 | H27: =H28 -> 700000
B28: Izvor: 11 Opći prihodi i primici | D28: =SUM(D29,D46) -> 511666.89 | E28: =SUM(E29,E46) -> 600000 | F28: =SUM(F29,F46) -> 700000 | G28: =SUM(G29,G46) -> 700000 | H28: =SUM(H29,H46) -> 700000
B29: 3 Rashodi poslovanja | D29: =SUM(D34,D30) -> 511666.89 | E29: =SUM(E34,E30) -> 600000 | F29: =SUM(F30,F34) -> 700000 | G29: =SUM(G30,G34) -> 700000 | H29: =SUM(H30,H34) -> 700000
B30: 31 Rashodi za zaposlene | D30: =SUM(D31:D33) -> 442876.09 | E30: =SUM(E31:E33) -> 507293 | F30: =SUM(F31:F33) -> 577360 | G30: =SUM(G31:G33) -> 591693 | H30: =SUM(H31:H33) -> 599708
B31: 3111 Plaće za redovan rad | D31: 367143.88 | E31: 419785 | F31: 482368 | G31: 495794 | H31: 500211
B32: 3121 Ostali rashodi za zaposlene | D32: 15153.48 | E32: 18243 | F32: 13883 | G32: 14093 | H32: 16962
B33: 3132 Doprinosi za obvezno zdravstveno osiguranje | D33: 60578.73 | E33: 69265 | F33: 81109 | G33: 81806 | H33: 82535
B34: 32 Materijalni rashodi | D34: =SUM(D35:D45) -> 68790.8 | E34: =SUM(E35:E45) -> 92707 | F34: =SUM(F35:F45) -> 122640 | G34: =SUM(G35:G45) -> 108307 | H34: =SUM(H35:H45) -> 100292
B35: 3212 Naknade za prijevoz, za rad na terenu i odvojeni život | D35: 17326.8 | E35: 21246 | F35: 25752 | G35: 25752 | H35: 26088
B36: 3213 Stručno usavršavanje zaposlenika | D36: 5000 | E36: 0 | F36: 0 | G36: 0 | H36: 0
B37: 3223 Energija | D37: 10000 | E37: 10900 | F37: 20000 | G37: 20000 | H37: 20000
B38: 3224 Materijal i dijelovi za tekuće i investicijsko održavanje | D38: 0 | E38: 2491 | F38: 0 | G38: 0 | H38: 0
B39: 3225 Sitni inventar i auto gume | D39: 0 | E39: 0 | F39: 0 | G39: 0 | H39: 0
B40: 3232 Usluge tekućeg i investicijskog održavanja | D40: 8964 | E40: 8100 | F40: 3046 | G40: 0 | H40: 0
B41: 3234 Komunalne usluge | D41: 0 | E41: 35000 | F41: 10000 | G41: 0 | H41: 0
B42: 3237 Intelektualne i osobne usluge | D42: 6000 | E42: 6000 | F42: 10000 | G42: 10000 | H42: 9204
B43: 3238 Računalne usluge | D43: 21500 | E43: 0 | F43: 25000 | G43: 25000 | H43: 25000
...
