Workbook

Sheet SAŽETAK
A1: FINANCIJSKI PLAN PRORAČUNSKOG KORISNIKA DRŽAVNOG PRORAČUNA ZA 2026. I PROJEKCIJE ZA 2027. I 2028. GODINU
A3: I. OPĆI DIO
A5: A. SAŽETAK RAČUNA PRIHODA I RASHODA
A7: BROJČANA OZNAKA I NAZIV | F7: IZVRŠENJE 2024. | G7: TEKUĆI PLAN 2025. | H7: PLAN ZA 2026. | I7: PROJEKCIJA ZA 2027. | J7: PROJEKCIJA ZA 2028.
A8: 1 | F8: 2 | G8: 3 | H8: 4 | I8: 5 | J8: 6
A9: 6 PRIHODI POSLOVANJA | F9: 864947.14 | G9: 1174769 | H9: =' Račun prihoda i rashoda-ek'!H11 -> 1821943 | I9: =' Račun prihoda i rashoda-ek'!I11 -> 2081985 | J9: =' Račun prihoda i rashoda-ek'!J11 -> 1994010
A10: 7 PRIHODI OD PRODAJE NEFINANCIJSKE IMOVINE | F10: 328 | G10: 0 | H10: =' Račun prihoda i rashoda-ek'!H48 -> 15000 | I10: =' Račun prihoda i rashoda-ek'!I48 -> 0 | J10: =' Račun prihoda i rashoda-ek'!J48 -> 0
A11: PRIHODI UKUPNO | F11: =SUM(F9:F10) -> 865275.14 | G11: =SUM(G9:G10) -> 1174769 | H11: =SUM(H9:H10) -> 1836943 | I11: =SUM(I9:I10) -> 2081985 | J11: =SUM(J9:J10) -> 1994010
A12: 3 RASHODI POSLOVANJA | F12: 804817.7 | G12: 964836 | H12: =' Račun prihoda i rashoda-ek'!H59 -> 1401956 | I12: =' Račun prihoda i rashoda-ek'!I59 -> 1397509 | J12: =' Račun prihoda i rashoda-ek'!J59 -> 1347532
A13: 4 RASHODI ZA NABAVU NEFINANCIJSKE IMOVINE | F13: 200752.66 | G13: 319744 | H13: =' Račun prihoda i rashoda-ek'!H108 -> 468799 | I13: =' Račun prihoda i rashoda-ek'!I108 -> 684476 | J13: =' Račun prihoda i rashoda-ek'!J108 -> 646478
A14: RASHODI UKUPNO | F14: =SUM(F12:F13) -> 1005570.4 | G14: =SUM(G12:G13) -> 1284580 | H14: =SUM(H12:H13) -> 1870755 | I14: =SUM(I12:I13) -> 2081985 | J14: =SUM(J12:J13) -> 1994010
A15: RAZLIKA - VIŠAK / MANJAK | F15: =F11-F14 -> -140295.22 | G15: =G11-G14 -> -109811 | H15: =H11-H14 -> -33812 | I15: =I11-I14 -> 0 | J15: =J11-J14 -> 0
A17: B. SAŽETAK RAČUNA FINANCIRANJA
A19: BROJČANA OZNAKA I NAZIV | F19: =F7 -> IZVRŠENJE 2024. | G19: =G7 -> TEKUĆI PLAN 2025. | H19: =H7 -> PLAN ZA 2026. | I19: =I7 -> PROJEKCIJA ZA 2027. | J19: =J7 -> PROJEKCIJA ZA 2028.
A20: 1 | F20: 2 | G20: 3 | H20: 4 | I20: 5 | J20: 6
A21: 8 PRIMICI OD FINANCIJSKE IMOVINE I ZADUŽIVANJA | F21: 0 | G21: 0 | H21: 0 | I21: 0 | J21: 0
A22: 5 IZDACI ZA FINANCIJSKU IMOVINU I OTPLATE ZAJMOVA | F22: 0 | G22: 0 | H22: 0 | I22: 0 | J22: 0
A23: RAZLIKA PRIMITAKA I IZDATAKA | F23: =SUM(F21:F22) -> 0 | G23: =SUM(G21:G22) -> 0 | H23: =SUM(H21:H22) -> 0 | I23: =SUM(I21:I22) -> 0 | J23: =SUM(J21:J22) -> 0
A24: PRIJENOS SREDSTAVA IZ PRETHODNE GODINE | F24: 283917.83 | G24: 143623 | H24: 33812 | I24: 0 | J24: 0
A25: PRIJENOS SREDSTAVA U SLJEDEĆE RAZDOBLJE | F25: -143622.61 | G25: -33812 | H25: 0 | I25: 0 | J25: 0
A26: NETO FINANCIRANJE | F26: =SUM(F24:F25) -> 140295.22 | G26: =SUM(G24:G25) -> 109811 | H26: =SUM(H24:H25) -> 33812 | I26: =SUM(I24:I25) -> 0 | J26: =SUM(J24:J25) -> 0
A27: VIŠAK / MANJAK + NETO FINANCIRANJE | F27: =F15+F26 -> 0 | G27: =G15+G26 -> 0 | H27: =H15+H26 -> 0 | I27: =I15+I26 -> 0 | J27: =J15+J26 -> 0

Sheet  Račun prihoda i rashoda-ek
A1: I. OPĆI DIO
A3: RAČUN PRIHODA I RASHODA
A5: IZVJEŠTAJ O PRIHODIMA I RASHODIMA PREMA EKONOMSKOJ KLASIFIKACIJI
A8: BROJČANA OZNAKA I NAZIV | F8: =SAŽETAK!F7 -> IZVRŠENJE 2024. | G8: =SAŽETAK!G7 -> TEKUĆI PLAN 2025. | H8: =SAŽETAK!H7 -> PLAN ZA 2026. | I8: =SAŽETAK!I7 -> PROJEKCIJA ZA 2027. | J8: =SAŽETAK!J7 -> PROJEKCIJA ZA 2028.
A9: 1 | F9: 2 | G9: 3 | H9: 4 | I9: 5 | J9: 6
A10: UKUPNO PRIHODI | F10: =SUM(F11,F48) -> 865275.14 | G10: =SUM(G11,G48) -> 1174769 | H10: =SUM(H11,H48) -> 1836943 | I10: =SUM(I11,I48) -> 2081985 | J10: =SUM(J11,J48) -> 1994010
A11: 6 | E11: Prihodi poslovanja | F11: =SUM(F12,F28,F32,F35,F41,F45) -> 864947.14 | G11: =SUM(G12,G28,G32,G35,G41,G45) -> 1174769 | H11: =SUM(H12,H28,H32,H35,H41,H45) -> 1821943 | I11: =SUM(I12,I28,I32,I35,I41,I45) -> 2081985 | J11: =SUM(J12,J28,J32,J35,J41,J45) -> 1994010
B12: 63 | E12: Pomoći iz inozemstva i od subjekata unutar općeg proračuna | F12: =SUM(F13,F16,F19,F22,F25) -> 146533.4 | G12: =SUM(G13,G16,G19,G22,G25) -> 395619 | H12: =SUM(H13,H16,H19,H22,H25) -> 458285 | I12: =SUM(I13,I16,I19,I22,I25) -> 702457 | J12: =SUM(J13,J16,J19,J22,J25) -> 675682
C13: 632 | E13: Pomoći od međunarodnih organizacija te institucija i tijela EU | F13: =SUM(F14:F15) -> 0 | G13: =SUM(G14:G15) -> 0 | H13: =SUM(H14:H15) -> 0 | I13: =SUM(I14:I15) -> 0 | J13: =SUM(J14:J15) -> 0
D14: 6323 | E14: Tekuće pomoći od institucija i tijela EU | F14: 0 | G14: 0 | H14: 0 | I14: 0 | J14: 0
D15: 6324 | E15: Kapitalne pomoći od institucija i tijela EU | F15: 0 | G15: 0 | H15: 0 | I15: 0 | J15: 0
C16: 634 | E16: Pomoći od izvanproračunskih korisnika | F16: =SUM(F17:F18) -> 11207.84 | G16: =SUM(G17:G18) -> 228280 | H16: =SUM(H17:H18) -> 322967 | I16: =SUM(I17:I18) -> 586276 | J16: =SUM(J17:J18) -> 575682
D17: 6341 | E17: Tekuće pomoći od izvanproračunskih korisnika | F17: 11207.84 | G17: 33000 | H17: 7280 | I17: 0 | J17: 10295
D18: 6342 | E18: Kapitalne pomoći od ostalih subjekata unutar općeg proračuna | F18: 0 | G18: 195280 | H18: 315687 | I18: 586276 | J18: 565387
C19: 636 | E19: Pomoći proračunskim korisnicima iz proračuna koji im nije nadležan | F19: =SUM(F20:F21) -> 0 | G19: =SUM(G20:G21) -> 22000 | H19: =SUM(H20:H21) -> 0 | I19: =SUM(I20:I21) -> 0 | J19: =SUM(J20:J21) -> 0
D20: 6361 | E20: Tekuće pomoći proračunskim korisnicima iz proračuna koji im nije nadležan | F20: 0 | G20: 0 | H20: 0 | I20: 0 | J20: 0
D21: 6362 | E21: Kapitalne pomoći proračunskim korisnicima iz proračuna koji im nije nadležan | F21: 0 | G21: 22000 | H21: 0 | I21: 0 | J21: 0
C22: 638 | E22: Pomoći temeljem prijenosa EU sredstava | F22: =SUM(F23:F24) -> 0 | G22: =SUM(G23:G24) -> 28739 | H22: =SUM(H23:H24) -> 35318 | I22: =SUM(I23:I24) -> 16181 | J22: =SUM(J23:J24) -> 0
D23: 6381 | E23: Tekuće pomoći temeljem prijenosa EU sredstava | F23: 0 | G23: 24310 | H23: 30518 | I23: 11381 | J23: 0
D24: 6382 | E24: Kapitalne pomoći temeljem prijenosa EU sredstava | F24: 0 | G24: 4429 | H24: 4800 | I24: 4800 | J24: 0
C25: 639 | E25: Prijenosi između proračunskih korisnika istog proračuna | F25: =SUM(F26:F27) -> 135325.56 | G25: =SUM(G26:G27) -> 116600 | H25: =SUM(H26:H27) -> 100000 | I25: =SUM(I26:I27) -> 100000 | J25: =SUM(J26:J27) -> 100000
D26: 6391 | E26: Tekući prijenosi između proračunskih korisnika istog proračuna | F26: 18300.26 | G26: 50000 | H26: 20000 | I26: 20000 | J26: 20000
D27: 6392 | E27: Kapitalni prijenosi između proračunskih korisnika istog proračuna | F27: 117025.3 | G27: 66600 | H27: 80000 | I27: 80000 | J27: 80000
B28: 64 | E28: Prihodi od imovine | F28: =SUM(F29) -> 0 | G28: =SUM(G29) -> 0 | H28: =SUM(H29) -> 0 | I28: =SUM(I29) -> 0 | J28: =SUM(J29) -> 0
C29: 641 | E29: Prihodi od financijske imovine | F29: =SUM(F30:F31) -> 0 | G29: =SUM(G30:G31) -> 0 | H29: =SUM(H30:H31) -> 0 | I29: =SUM(I30:I31) -> 0 | J29: =SUM(J30:J31) -> 0
D30: 6413 | E30: Kamate na oročena sredstva i depozite po viđenju | F30: 0 | G30: 0 | H30: 0 | I30: 0 | J30: 0
D31: 6415 | E31: Prihodi od pozitivnih tečajnih razlika i razlika zbog primjene valutne klauzule | F31: 0 | G31: 0 | H31: 0 | I31: 0 | J31: 0
B32: 65 | E32: Prihodi od upravnih i administrativnih pristojbi po posebnim propisima i naknadama | F32: =F33 -> 112223.81 | G32: =G33 -> 90000 | H32: =H33 -> 110000 | I32: =I33 -> 120000 | J32: =J33 -> 120000
C33: 652 | E33: Prihodi po posebnim propisima | F33: =F34 -> 112223.81 | G33: =G34 -> 90000 | H33: =H34 -> 110000 | I33: =I34 -> 120000 | J33: =J34 -> 120000
D34: 6526 | E34: Ostali nespomenuti prihodi | F34: 112223.81 | G34: 90000 | H34: 110000 | I34: 120000 | J34: 120000
B35: 66 | E35: Prihodi od prodaje proizvoda i robe te pruženih usluga i prihodi od donacija | F35: =SUM(F36,F39) -> 94493.51 | G35: =SUM(G36,G39) -> 88830 | H35: =SUM(H36,H39) -> 96000 | I35: =SUM(I36,I39) -> 100000 | J35: =SUM(J36,J39) -> 100000
C36: 661 | E36: Prihodi od prodaje proizvoda i robe te pruženih usluga | F36: =SUM(F37:F38) -> 90198.55 | G36: =SUM(G37:G38) -> 84000 | H36: =SUM(H37:H38) -> 91000 | I36: =SUM(I37:I38) -> 95000 | J36: =SUM(J37:J38) -> 95000
D37: 6614 | E37: Prihodi od prodaje proizvoda i robe | F37: 19393.11 | G37: 18000 | H37: 21000 | I37: 23000 | J37: 23000
D38: 6615 | E38: Prihodi od pruženih usluga | F38: 70805.44 | G38: 66000 | H38: 70000 | I38: 72000 | J38: 72000
C39: 663 | E39: Donacije od pravnih i fizičkih osoba izvan općeg proračuna i povrat donacija po protestiranim jamstvima | F39: =F40 -> 4294.96 | G39: =G40 -> 4830 | H39: =H40 -> 5000 | I39: =I40 -> 5000 | J39: =J40 -> 5000
D40: 6631 | E40: Tekuće donacije | F40: 4294.96 | G40: 4830 | H40: 5000 | I40: 5000 | J40: 5000
B41: 67 | E41: Prihodi iz nadležnog proračuna i od HZZO-a temeljem ugovornih obveza | F41: =F42 -> 511666.89 | G41: =G42 -> 600000 | H41: =H42 -> 1157658 | I41: =I42 -> 1159528 | J41: =J42 -> 1098328
C42: 671 | E42: Prihodi iz nadležnog proračuna za financiranje redovne djelatnosti proračunskih korisnika | F42: =SUM(F43:F44) -> 511666.89 | G42: =SUM(G43:G44) -> 600000 | H42: =SUM(H43:H44) -> 1157658 | I42: =SUM(I43:I44) -> 1159528 | J42: =SUM(J43:J44) -> 1098328
D43: 6711 | E43: Prihodi iz nadležnog proračuna za financiranje rashoda poslovanja | F43: 511666.89 | G43: 600000 | H43: 1130458 | I43: 1151028 | J43: 1094928 | K43: dodani prihodi iz izvora 56 -PKK
D44: 6712 | E44: Prihodi za financiranje rashoda za nabavu nefinancijske imovine | F44: 0 | G44: 0 | H44: 27200 | I44: 8500 | J44: 3400
B45: 68 | E45: Kazne, upravne mjere i ostali prihodi | F45: =F46 -> 29.53 | G45: =G46 -> 320 | H45: =H46 -> 0 | I45: =I46 -> 0 | J45: =J46 -> 0
C46: 683 | E46: Ostali prihodi | F46: =F47 -> 29.53 | G46: =G47 -> 320 | H46: =H47 -> 0 | I46: =I47 -> 0 | J46: =J47 -> 0
D47: 6831 | E47: Ostali prihodi | F47: 29.53 | G47: 320 | H47: 0 | I47: 0 | J47: 0
A48: 7 | E48: Prihodi od prodaje nefinancijske imovine | F48: =F49 -> 328 | G48: =G49 -> 0 | H48: =H49 -> 15000 | I48: =I49 -> 0 | J48: 0
B49: 72 | E49: Prihodi od prodaje proizvedene dugotrajne imovine | F49: =F50 -> 328 | G49: =G50 -> 0 | H49: =H50 -> 15000 | I49: =I50 -> 0 | J49: 0
C50: 722 | E50: Prihodi od prodaje postrojenja i opreme | F50: =SUM(F51:F54) -> 328 | G50: =SUM(G51:G54) -> 0 | H50: =SUM(H51:H54) -> 15000 | I50: =SUM(I51:I54) -> 0 | J50: =SUM(J51:J54) -> 0
D51: 7212 | E51: Poslovni objekti | F51: 140 | G51: 0 | H51: 0 | I51: 0 | J51: 0
D52: 7221 | E52: Uredska oprema i namještaj | F52: 24 | G52: 0 | H52: 0 | I52: 0 | J52: 0
D53: 7227 | E53: Uređaji, strojevi i oprema za ostale namjene | F53: 164 | G53: 0 | H53: 0 | I53: 0 | J53: 0
D54: 7231 | E54: Prijevozna sredstva u cestovnom prometu | F54: 0 | G54: 0 | H54: 15000 | I54: 0 | J54: 0
A56: BROJČANA OZNAKA I NAZIV | F56: =F8 -> IZVRŠENJE 2024. | G56: =G8 -> TEKUĆI PLAN 2025. | H56: =SAŽETAK!H7 -> PLAN ZA 2026. | I56: =I8 -> PROJEKCIJA ZA 2027. | J56: =J8 -> PROJEKCIJA ZA 2028.
A57: 1 | F57: 2 | G57: 3 | H57: 4 | I57: 5 | J57: 6
A58: UKUPNO RASHODI | F58: =SUM(F59,F108) -> 1005570.4 | G58: =SUM(G59,G108) -> 1314580 | H58: =SUM(H59,H108) -> 1870755 | I58: =SUM(I59,I108) -> 2081985 | J58: =SUM(J59,J108) -> 1994010
A59: 3 | E59: Rashodi poslovanja | F59: =SUM(F60,F68,F100,F105) -> 804817.7 | G59: =SUM(G60,G68,G100,G105) -> 994836 | H59: =SUM(H60,H68,H100,H105) -> 1401956 | I59: =SUM(I60,I68,I100,I105) -> 1397509 | J59: =SUM(J60,J68,J100,J105) -> 1347532
B60: 31 | E60: Rashodi za zaposlene | F60: =SUM(F61,F63,F65) -> 526775.32 | G60: =SUM(G61,G63,G65) -> 647398 | H60: =SUM(H61,H63,H65) -> 753936 | I60: =SUM(I61,I63,I65) -> 736287 | J60: =SUM(J61,J63,J65) -> 744783
C61: 311 | E61: Plaće (Bruto) | F61: =F62 -> 436498.82 | G61: =G62 -> 511892 | H61: =H62 -> 629777 | I61: =I62 -> 616012 | J61: =J62 -> 621267
D62: 3111 | E62: Plaće za redovan rad | F62: 436498.82 | G62: 511892 | H62: 629777 | I62: 616012 | J62: 621267
C63: 312 | E63: Ostali rashodi za zaposlene | F63: =F64 -> 17353.48 | G63: =G64 -> 51043 | H63: =H64 -> 18728 | I63: =I64 -> 18633 | J63: =J64 -> 21007
D64: 3121 | E64: Ostali rashodi za zaposlene | F64: 17353.48 | G64: 51043 | H64: 18728 | I64: 18633 | J64: 21007
C65: 313 | E65: Doprinosi na plaću | F65: =SUM(F66:F67) -> 72923.02 | G65: =SUM(G66:G67) -> 84463 | H65: =SUM(H66:H67) -> 105431 | I65: =SUM(I66:I67) -> 101642 | J65: =SUM(J66:J67) -> 102509
D66: 3131 | E66: Doprinosi za mirovinsko osiguranje | F66: 919.18 | G66: 0 | H66: 0 | I66: 0 | J66: 0
D67: 3132 | E67: Doprinosi za obvezno zdravstveno osiguranje | F67: 72003.84 | G67: 84463 | H67: 105431 | I67: 101642 | J67: 102509
B68: 32 | E68: Materijalni rashodi | F68: =SUM(F69,F74,F81,F91,F93) -> 272972.5 | G68: =SUM(G69,G74,G81,G91,G93) -> 342336 | H68: =SUM(H69,H74,H81,H91,H93) -> 642918 | I68: =SUM(I69,I74,I81,I91,I93) -> 656120 | J68: =SUM(J69,J74,J81,J91,J93) -> 597647
C69: 321 | E69: Naknade troškova zaposlenima | F69: =SUM(F70:F73) -> 30602.52 | G69: =SUM(G70:G73) -> 36103 | H69: =SUM(H70:H73) -> 59729 | I69: =SUM(I70:I73) -> 60707 | J69: =SUM(J70:J73) -> 48911
D70: 3211 | E70: Službena putovanja | F70: 3724 | G70: 4638 | H70: 9871 | I70: 10941 | J70: 10158
D71: 3212 | E71: Naknade za prijevoz, za rad na terenu i odvojeni život | F71: 21574.52 | G71: 27246 | H71: 37158 | I71: 35366 | J71: 36253
D72: 3213 | E72: Stručno usavršavanje zaposlenika | F72: 5304 | G72: 4219 | H72: 12700 | I72: 14400 | J72: 2500
D73: 3214 | E73: Ostale naknade troškova zaposlenima | F73: 0 | G73: 0 | H73: 0 | I73: 0 | J73: 0
C74: 322 | E74: Rashodi za materijal i energiju | F74: =SUM(F75:F80) -> 57494 | G74: =SUM(G75:G80) -> 66981 | H74: =SUM(H75:H80) -> 61594 | I74: =SUM(I75:I80) -> 57464 | J74: =SUM(J75:J80) -> 57464
D75: 3221 | E75: Uredski materijal i ostali materijalni rashodi | F75: 3880.16 | G75: 6513 | H75: 13714 | I75: 11624 | J75: 11624
D76: 3222 | E76: Materijal i sirovine | F76: 15416.13 | G76: 18416 | H76: 10000 | I76: 10000 | J76: 10000
D77: 3223 | E77: Energija | F77: 20170.79 | G77: 23420 | H77: 23000 | I77: 23000 | J77: 23000
D78: 3224 | E78: Materijal i dijelovi za tekuće i investicijsko održavanje | F78: 11121.72 | G78: 8110 | H78: 7000 | I78: 7000 | J78: 7000
D79: 3225 | E79: Sitni inventar i auto gume | F79: 6370.89 | G79: 8159 | H79: 5880 | I79: 3840 | J79: 3840
D80: 3227 | E80: Službena, radna i zaštitna odjeća i obuća | F80: 534.31 | G80: 2363 | H80: 2000 | I80: 2000 | J80: 2000
C81: 323 | E81: Rashodi za usluge | F81: =SUM(F82:F90) -> 147057.44 | G81: =SUM(G82:G90) -> 188582 | H81: =SUM(H82:H90) -> 478403 | I81: =SUM(I82:I90) -> 494144 | J81: =SUM(J82:J90) -> 447022
D82: 3231 | E82: Usluge telefona, pošte i prijevoza | F82: 3399.03 | G82: 2600 | H82: 5600 | I82: 3000 | J82: 3000
D83: 3232 | E83: Usluge tekućeg i investicijskog održavanja | F83: 14231.49 | G83: 13672 | H83: 21611 | I83: 20381 | J83: 19295
D84: 3233 | E84: Usluge promidžbe i informiranja | F84: 18476.52 | G84: 16330 | H84: 23213 | I84: 18951 | J84: 75557
D85: 3234 | E85: Komunalne usluge | F85: 17232.73 | G85: 48500 | H85: 10700 | I85: 5600 | J85: 11809
D86: 3235 | E86: Zakupnine i najamnine | F86: 3639.25 | G86: 5500 | H86: 1300 | I86: 3500 | J86: 3500
D87: 3236 | E87: Zdravstvene i veterinarske usluge | F87: 1102.88 | G87: 2307 | H87: 1000 | I87: 2200 | J87: 2200
D88: 3237 | E88: Intelektualne i osobne usluge | F88: 57322.64 | G88: 67616 | H88: 322771 | I88: 389369 | J88: 281593
D89: 3238 | E89: Računalne usluge | F89: 25458.44 | G89: 24706 | H89: 27100 | I89: 29300 | J89: 29300
D90: 3239 | E90: Ostale usluge | F90: 6194.46 | G90: 7351 | H90: 65108 | I90: 21843 | J90: 20768
C91: 324 | E91: Naknade troškova osobama izvan radnog odnosa | F91: =SUM(F92) -> 422.19 | G91: =SUM(G92) -> 1000 | H91: =SUM(H92) -> 2700 | I91: =SUM(I92) -> 2700 | J91: =SUM(J92) -> 3700
D92: 3241 | E92: Naknade troškova osobama izvan radnog odnosa | F92: 422.19 | G92: 1000 | H92: 2700 | I92: 2700 | J92: 3700
C93: 329 | E93: Ostali nespomenuti rashodi poslovanja | F93: =SUM(F94:F99) -> 37396.35 | G93: =SUM(G94:G99) -> 49670 | H93: =SUM(H94:H99) -> 40492 | I93: =SUM(I94:I99) -> 41105 | J93: =SUM(J94:J99) -> 40550
D94: 3291 | E94: Naknade za rad predstavničkih i izvršnih tijela, povjerenstava i slično | F94: 7791.6 | G94: 14970 | H94: 9842 | I94: 9555 | J94: 9000
D95: 3292 | E95: Premije osiguranja | F95: 21614.08 | G95: 24800 | H95: 22100 | I95: 24000 | J95: 24000
D96: 3293 | E96: Reprezentacija | F96: 4397.18 | G96: 6850 | H96: 5000 | I96: 4000 | J96: 4000
D97: 3294 | E97: Članarine | F97: 515 | G97: 50 | H97: 550 | I97: 550 | J97: 550
D98: 3295 | E98: Pristojbe i naknade | F98: 2914.92 | G98: 3000 | H98: 3000 | I98: 3000 | J98: 3000
D99: 3299 | E99: Ostali nespomenuti rashodi poslovanja | F99: 163.57 | G99: 0 | H99: 0 | I99: 0 | J99: 0
B100: 34 | E100: Financijski rashodi | F100: =F101 -> 2015.25 | G100: =G101 -> 1902 | H100: =H101 -> 2002 | I100: =I101 -> 2002 | J100: =J101 -> 2002
C101: 343 | E101: Ostali financijski rashodi | F101: =SUM(F102:F104) -> 2015.25 | G101: =SUM(G102:G104) -> 1902 | H101: =SUM(H102:H104) -> 2002 | I101: =SUM(I102:I104) -> 2002 | J101: =SUM(J102:J104) -> 2002
D102: 3431 | E102: Bankarske usluge i usluge platnog prometa | F102: 2015.06 | G102: 1900 | H102: 2000 | I102: 2000 | J102: 2000
D103: 3432 | E103: Negativne tečajne razlike i razlike zbog primjene valutne klauzule | F103: 0.05 | G103: 0 | H103: 1 | I103: 1 | J103: 1
D104: 3433 | E104: Zatezne kamate | F104: 0.14 | G104: 2 | H104: 1 | I104: 1 | J104: 1
B105: 36 | E105: Pomoći dane u inozemstvo i unutar općeg proračuna | F105: =F106 -> 3054.63 | G105: =G106 -> 3200 | H105: =H106 -> 3100 | I105: =I106 -> 3100 | J105: =J106 -> 3100
...

Sheet  Račun prihoda i rashoda-iz
A2: A2. PRIHODI I RASHODI PREMA IZVORIMA FINANCIRANJA
A4: BROJČANA OZNAKA I NAZIV | B4: =SAŽETAK!F7 -> IZVRŠENJE 2024. | C4: =SAŽETAK!G7 -> TEKUĆI PLAN 2025. | D4: =SAŽETAK!H7 -> PLAN ZA 2026. | E4: =SAŽETAK!I7 -> PROJEKCIJA ZA 2027. | F4: =SAŽETAK!J7 -> PROJEKCIJA ZA 2028.
A5: 1 | B5: 2 | C5: 3 | D5: 4 | E5: 5 | F5: 6
A6: UKUPNO PRIHODI | B6: =SUM(B7,B9,B11,B13,B18,B20) -> 865275.14 | C6: =SUM(C7,C9,C11,C13,C18,C20) -> 1174769 | D6: =SUM(D7,D9,D11,D13,D18,D20) -> 1836943 | E6: =SUM(E7,E9,E11,E13,E18,E20) -> 2081985 | F6: =SUM(F7,F9,F11,F13,F18,F20) -> 1994010
A7: 1 Opći prihodi i primici | B7: =B8 -> 511666.89 | C7: =C8 -> 600000 | D7: =D8 -> 700000 | E7: =E8 -> 700000 | F7: =F8 -> 700000
A8: 11 Opći prihodi i primici | B8: 511666.89 | C8: 600000 | D8: 700000 | E8: 700000 | F8: 700000
A9: 3 Vlastiti prihodi | B9: =B10 -> 90228.08 | C9: =C10 -> 84320 | D9: =D10 -> 91000 | E9: =E10 -> 95000 | F9: =F10 -> 95000
A10: 31 Vlastiti prihodi | B10: 90228.08 | C10: 84320 | D10: 91000 | E10: 95000 | F10: 95000
A11: 4 Prihodi za posebne namjene | B11: =B12 -> 112223.81 | C11: =C12 -> 90000 | D11: =D12 -> 110000 | E11: =E12 -> 120000 | F11: =F12 -> 120000
A12: 43 ostali prihodi za posebne namjene | B12: 112223.81 | C12: 90000 | D12: 110000 | E12: 120000 | F12: 120000
A13: 5 Pomoći | B13: =SUM(B14:B17) -> 146533.4 | C13: =SUM(C14:C17) -> 395619 | D13: =SUM(D14:D17) -> 915943 | E13: =SUM(E14:E17) -> 1161985 | F13: =SUM(F14:F17) -> 1074010
A14: 50 Pomoći iz državnog proračuna | B14: 0 | C14: 0 | D14: 100000 | E14: 100000 | F14: 100000
A15: 51 Pomoći EU | B15: 0 | C15: 0 | D15: 0 | E15: 0 | F15: 0
A16: 52 Ostale pomoći | B16: 146533.4 | C16: 395619 | D16: 322967 | E16: 586276 | F16: 575682
A17: 56 Fondovi EU | B17: 0 | C17: 0 | D17: 492976 | E17: 475709 | F17: 398328
A18: 6 Donacije | B18: =B19 -> 4294.96 | C18: =C19 -> 4830 | D18: =D19 -> 5000 | E18: =E19 -> 5000 | F18: =F19 -> 5000
A19: 61 Donacije | B19: 4294.96 | C19: 4830 | D19: 5000 | E19: 5000 | F19: 5000
A20: 7 Prihodi od prodaje ili zamjene nefinancijske imovine i naknade s naslova osiguranja | B20: =B21 -> 328 | C20: =C21 -> 0 | D20: =D21 -> 15000 | E20: =E21 -> 0 | F20: =F21 -> 0
A21: 71 Prihodi od prodaje ili zamjene nefinancijske imovine i naknade s naslova osiguranja | B21: 328 | C21: 0 | D21: 15000 | E21: 0 | F21: 0
A23: UKUPNO RASHODI | B23: =SUM(B24,B26,B28,B30,B35,B37) -> 1005570.4 | C23: =SUM(C24,C26,C28,C30,C35,C37) -> 1284580 | D23: =SUM(D24,D26,D28,D30,D35,D37) -> 1870755 | E23: =SUM(E24,E26,E28,E30,E35,E37) -> 2081985 | F23: =SUM(F24,F26,F28,F30,F35,F37) -> 1994010
A24: 1 Opći prihodi i primici | B24: =B25 -> 511666.89 | C24: =C25 -> 600000 | D24: =D25 -> 700000 | E24: =E25 -> 700000 | F24: =F25 -> 700000
A25: 11 Opći prihodi i primici | B25: 511666.89 | C25: 600000 | D25: ='POSEBNI DIO'!F10 -> 700000 | E25: ='POSEBNI DIO'!G10 -> 700000 | F25: ='POSEBNI DIO'!H10 -> 700000
A26: 3 Vlastiti prihodi | B26: =B27 -> 193249.35 | C26: =C27 -> 96867 | D26: =D27 -> 122023 | E26: =E27 -> 95000 | F26: =F27 -> 95000
A27: 31 Vlastiti prihodi | B27: 193249.35 | C27: 96867 | D27: ='POSEBNI DIO'!F12 -> 122023 | E27: ='POSEBNI DIO'!G12 -> 95000 | F27: ='POSEBNI DIO'!H12 -> 95000
A28: 4 Prihodi za posebne namjene | B28: =B29 -> 132196.07 | C28: =C29 -> 169553 | D28: =D29 -> 110000 | E28: =E29 -> 120000 | F28: =F29 -> 120000
A29: 43 ostali prihodi za posebne namjene | B29: 132196.07 | C29: 169553 | D29: ='POSEBNI DIO'!F14 -> 110000 | E29: ='POSEBNI DIO'!G14 -> 120000 | F29: ='POSEBNI DIO'!H14 -> 120000
A30: 5 Pomoći | B30: =SUM(B31:B34) -> 162571.72 | C30: =SUM(C31:C34) -> 413330 | D30: =SUM(D31:D34) -> 918732 | E30: =SUM(E31:E34) -> 1161985 | F30: =SUM(F31:F34) -> 1074010
A31: 50 Pomoći iz državnog proračuna | B31: 0 | C31: 0 | D31: ='POSEBNI DIO'!F16 -> 100000 | E31: ='POSEBNI DIO'!G16 -> 100000 | F31: ='POSEBNI DIO'!H16 -> 100000
A32: 51 Pomoći EU | B32: 15622.68 | C32: 37362 | D32: ='POSEBNI DIO'!F17 -> 0 | E32: ='POSEBNI DIO'!G17 -> 0 | F32: ='POSEBNI DIO'!H17 -> 0
A33: 52 Ostale pomoći | B33: 146949.04 | C33: 375968 | D33: ='POSEBNI DIO'!F18 -> 325756 | E33: ='POSEBNI DIO'!G18 -> 586276 | F33: ='POSEBNI DIO'!H18 -> 575682
A34: 56 Fondovi EU | B34: 0 | C34: 0 | D34: ='POSEBNI DIO'!F19 -> 492976 | E34: ='POSEBNI DIO'!G19 -> 475709 | F34: ='POSEBNI DIO'!H19 -> 398328
A35: 6 Donacije | B35: =B36 -> 4295.13 | C35: =C36 -> 4830 | D35: =D36 -> 5000 | E35: =E36 -> 5000 | F35: =F36 -> 5000
A36: 61 Donacije | B36: 4295.13 | C36: 4830 | D36: ='POSEBNI DIO'!F21 -> 5000 | E36: ='POSEBNI DIO'!G21 -> 5000 | F36: ='POSEBNI DIO'!H21 -> 5000
A37: 7 Prihodi od prodaje ili zamjene nefinancijske imovine i naknade s naslova osiguranja | B37: =B38 -> 1591.2 | C37: =C38 -> 0 | D37: =D38 -> 15000 | E37: =E38 -> 0 | F37: =F38 -> 0
A38: 71 Prihodi od prodaje ili zamjene nefinancijske imovine i naknade s naslova osiguranja | B38: 1591.2 | C38: 0 | D38: ='POSEBNI DIO'!F23 -> 15000 | E38: ='POSEBNI DIO'!G23 -> 0 | F38: ='POSEBNI DIO'!H23 -> 0

Sheet  Račun rashoda-funkcija 
A2: A3. RASHODI PREMA FUNKCIJSKOJ KLASIFIKACIJI
A4: BROJČANA OZNAKA I NAZIV | B4: =SAŽETAK!F7 -> IZVRŠENJE 2024. | C4: =SAŽETAK!G7 -> TEKUĆI PLAN 2025. | D4: =SAŽETAK!H7 -> PLAN ZA 2026. | E4: =SAŽETAK!I7 -> PROJEKCIJA ZA 2027. | F4: =SAŽETAK!J7 -> PROJEKCIJA ZA 2028.
A5: 1 | B5: 2 | C5: 3 | D5: 4 | E5: 5 | F5: 6
A6: UKUPNO RASHODI | B6: =B7 -> 1005570.4 | C6: =C7 -> 1284580 | D6: =D7 -> 1870755 | E6: =E7 -> 2081985 | F6: =F7 -> 1994010
A7: 05 Zaštita okoliša | B7: =B8 -> 1005570.4 | C7: =C8 -> 1284580 | D7: =D8 -> 1870755 | E7: =E8 -> 2081985 | F7: =F8 -> 1994010
A8: 054 Zaštita bioraznolikosti i krajolika | B8: =B9 -> 1005570.4 | C8: =C9 -> 1284580 | D8: =D9 -> 1870755 | E8: =E9 -> 2081985 | F8: =F9 -> 1994010
A9: 0540 Zaštita bioraznolikosti i krajolika | B9: 1005570.4 | C9: ='POSEBNI DIO'!E24 -> 1284580 | D9: ='POSEBNI DIO'!F24 -> 1870755 | E9: ='POSEBNI DIO'!G24 -> 2081985 | F9: ='POSEBNI DIO'!H24 -> 1994010

Sheet  Račun financiranja-ekonoms 
A2: I. OPĆI DIO
A4: B. RAČUN FINANCIRANJA
A6: B1. RAČUN FINANCIRANJA PREMA EKONOMSKOJ KLASIFIKACIJI
A8: BROJČANA OZNAKA I NAZIV | D8: =SAŽETAK!F7 -> IZVRŠENJE 2024. | E8: =SAŽETAK!G7 -> TEKUĆI PLAN 2025. | F8: =SAŽETAK!H7 -> PLAN ZA 2026. | G8: =SAŽETAK!I7 -> PROJEKCIJA ZA 2027. | H8: =SAŽETAK!J7 -> PROJEKCIJA ZA 2028.
A9: 1 | D9: 2 | E9: 3 | F9: 4 | G9: 5 | H9: 6
A10: 8 | C10: Primici od financijske imovine i zaduživanja
B11: 84 | C11: Primici od zaduživanja
A12: …
A13: 5 | C13: Izdaci za financijsku imovinu i otplate zajmova
B14: 54 | C14: Izdaci za otplatu glavnice primljenih kredita i zajmova
A15: …

Sheet  Račun financiranja-izvori 
A2: B2. RAČUN FINANCIRANJA PREMA IZVORIMA FINANCIRANJA
A4: BROJČANA OZNAKA I NAZIV | B4: =' Račun financiranja-ekonoms '!D8 -> IZVRŠENJE 2024. | C4: =' Račun financiranja-ekonoms '!E8 -> TEKUĆI PLAN 2025. | D4: =' Račun financiranja-ekonoms '!F8 -> PLAN ZA 2026. | E4: =' Račun financiranja-ekonoms '!G8 -> PROJEKCIJA ZA 2027. | F4: =' Račun financiranja-ekonoms '!H8 -> PROJEKCIJA ZA 2028.
A5: 1 | B5: 2 | C5: 3 | D5: 4 | E5: 5 | F5: 6
A6: UKUPNO PRIMICI
A7: 1 Opći prihodi i primici
A8: 11 Opći prihodi i primici
A9: 12 Sredstva učešća za pomoći
A10: ….
A11: 2 Doprinosi
A12: 21 Doprinosi za mirovinsko osiguranje
A13: 3 Vlastiti prihodi
A14: 31 Vlastiti prihodi
A15: …
A17: UKUPNO IZDACI
A18: 1 Opći prihodi i primici
... A26: …

Sheet POSEBNI DIO
B2: II. POSEBNI DIO
B4: IZVJEŠTAJ PO PROGRAMSKOJ KLASIFIKACIJI
B6: BROJČANA OZNAKA I NAZIV | D6: =' Račun rashoda-funkcija '!B4 -> IZVRŠENJE 2024. | E6: =' Račun rashoda-funkcija '!C4 -> TEKUĆI PLAN 2025. | F6: =' Račun rashoda-funkcija '!D4 -> PLAN ZA 2026. | G6: =' Račun rashoda-funkcija '!E4 -> PROJEKCIJA ZA 2027. | H6: =' Račun rashoda-funkcija '!F4 -> PROJEKCIJA ZA 2028.
B7: 7715 | C7: NACIONALNI PARKOVI I PARKOVI PRIRODE | D7: =D8 -> 1005570.4 | E7: =E8 -> 1284580 | F7: =F8 -> 1870755 | G7: =G8 -> 2081985 | H7: =H8 -> 1994010
B8: 22187 | C8: JAVNA USTANOVA NACIONALNI PARK RISNJAK | D8: =SUM(D9,D11,D13,D15,D20,D22) -> 1005570.4 | E8: =SUM(E9,E11,E13,E15,E20,E22) -> 1284580 | F8: =SUM(F9,F11,F13,F15,F20,F22) -> 1870755 | G8: =SUM(G9,G11,G13,G15,G20,G22) -> 2081985 | H8: =SUM(H9,H11,H13,H15,H20,H22) -> 1994010
B9: Izvor 1 | C9: Opći prihodi i primici | D9: =D10 -> 511666.89 | E9: =E10 -> 600000 | F9: =F10 -> 700000 | G9: =G10 -> 700000 | H9: =H10 -> 700000
B10: Izvor 11 | C10: Opći prihodi i primici | D10: =D27 -> 511666.89 | E10: =E27 -> 600000 | F10: =F28 -> 700000 | G10: =G28 -> 700000 | H10: =H28 -> 700000
B11: Izvor 3 | C11: Vlastiti prihodi | D11: =D12 -> 193249.35 | E11: =E12 -> 96867 | F11: =F12 -> 122023 | G11: =G12 -> 95000 | H11: =H12 -> 95000
B12: Izvor 31 | C12: Vlastiti prihodi | D12: =D54 -> 193249.35 | E12: =E54 -> 96867 | F12: =F54 -> 122023 | G12: =G54 -> 95000 | H12: =H54 -> 95000
B13: Izvor 4 | C13: Prihodi za posebne namjene | D13: =D14 -> 132196.07 | E13: =E14 -> 169553 | F13: =F14 -> 110000 | G13: =G14 -> 120000 | H13: =H14 -> 120000
B14: Izvor 43 | C14: Ostali prihodi za posebne namjene | D14: =D105 -> 132196.07 | E14: =E105 -> 169553 | F14: =F105 -> 110000 | G14: =G105 -> 120000 | H14: =H105 -> 120000
B15: Izvor 5 | C15: Pomoći | D15: =SUM(D16:D19) -> 162571.72 | E15: =SUM(E16:E19) -> 413330 | F15: =SUM(F16:F19) -> 918732 | G15: =SUM(G16:G19) -> 1161985 | H15: =SUM(H16:H19) -> 1074010
B16: Izvor 50 | C16: Pomoći iz državnog proračuna | D16: 0 | E16: 0 | F16: =F170 -> 100000 | G16: =G170 -> 100000 | H16: =H170 -> 100000
B17: Izvor 51 | C17: Pomoći EU | D17: =D179 -> 15622.68 | E17: =E179 -> 37362 | F17: =F179 -> 0 | G17: =G179 -> 0 | H17: =H179 -> 0
B18: Izvor 52 | C18: Ostale pomoći | D18: =D200 -> 146949.04 | E18: =E200 -> 375968 | F18: =F200 -> 325756 | G18: =G200 -> 586276 | H18: =H200 -> 575682
B19: Izvor 56 | C19: Fondovi EU | D19: 0 | E19: 0 | F19: =SUM(F255,F281) -> 492976 | G19: =SUM(G255,G281) -> 475709 | H19: =SUM(H255,H281) -> 398328
B20: Izvor 6 | C20: Donacije | D20: =D21 -> 4295.13 | E20: =E21 -> 4830 | F20: =F21 -> 5000 | G20: =G21 -> 5000 | H20: =H21 -> 5000
B21: Izvor 61 | C21: Donacije | D21: =D233 -> 4295.13 | E21: =E233 -> 4830 | F21: =F233 -> 5000 | G21: =G233 -> 5000 | H21: =H233 -> 5000
B22: Izvor 7 | C22: Prihodi od prodaje ili zamjene nefinancijske imovine i naknade s naslova osiguranja | D22: =D23 -> 1591.2 | E22: =E23 -> 0 | F22: =F23 -> 15000 | G22: =G23 -> 0 | H22: =H23 -> 0
B23: Izvor 71 | C23: Prihodi od prodaje ili zamjene nefinancijske imovine i naknade s naslova osiguranja | D23: =D240 -> 1591.2 | E23: =E240 -> 0 | F23: =F240 -> 15000 | G23: =G240 -> 0 | H23: =H240 -> 0
B24: 34 ZAŠTITA I OČUVANJE PRIRODE I OKOLIŠA | D24: =D25 -> 1005570.4 | E24: =E25 -> 1284580 | F24: =F25 -> 1870755 | G24: =G25 -> 2081985 | H24: =H25 -> 1994010
B25: PROGRAM: 3401 ZAŠTITA PRIRODE | D25: =SUM(D26,D52) -> 1005570.4 | E25: =SUM(E26,E52) -> 1284580 | F25: =SUM(F26,F52,F254,F280) -> 1870755 | G25: =SUM(G26,G52,G254,G280) -> 2081985 | H25: =SUM(H26,H52,H254,H280) -> 1994010
B26: A779000 - Administracija i upravljanje | D26: =D27 -> 511666.89 | E26: =E27 -> 600000 | F26: =F27 -> 700000 | G26: =G27 -> 700000 | H26: =H27 -> 700000
B27: Izvor: 1 Opći prihodi i primici | D27: =D28 -> 511666.89 | E27: =E28 -> 600000 | F27: =F28 -> 700000 | G27: =G28 -> 700000 | H27: =H28 -> 700000
B28: Izvor: 11 Opći prihodi i primici | D28: =SUM(D29,D46) -> 511666.89 | E28: =SUM(E29,E46) -> 600000 | F28: =SUM(F29,F46) -> 700000 | G28: =SUM(G29,G46) -> 700000 | H28: =SUM(H29,H46) -> 700000
B29: 3 Rashodi poslovanja | D29: =SUM(D34,D30) -> 511666.89 | E29: =SUM(E34,E30) -> 600000 | F29: =SUM(F30,F34) -> 700000 | G29: =SUM(G30,G34) -> 700000 | H29: =SUM(H30,H34) -> 700000
B30: 31 Rashodi za zaposlene | D30: =SUM(D31:D33) -> 442876.09 | E30: =SUM(E31:E33) -> 507293 | F30: =SUM(F31:F33) -> 577360 | G30: =SUM(G31:G33) -> 591693 | H30: =SUM(H31:H33) -> 599708
B31: 3111 Plaće za redovan rad | D31: 367143.88 | E31: 419785 | F31: 482368 | G31: 495794 | H31: 500211
B32: 3121 Ostali rashodi za zaposlene | D32: 15153.48 | E32: 18243 | F32: 13883 | G32: 14093 | H32: 16962
B33: 3132 Doprinosi za obvezno zdravstveno osiguranje | D33: 60578.73 | E33: 69265 | F33: 81109 | G33: 81806 | H33: 82535
B34: 32 Materijalni rashodi | D34: =SUM(D35:D45) -> 68790.8 | E34: =SUM(E35:E45) -> 92707 | F34: =SUM(F35:F45) -> 122640 | G34: =SUM(G35:G45) -> 108307 | H34: =SUM(H35:H45) -> 100292
B35: 3212 Naknade za prijevoz, za rad na terenu i odvojeni život | D35: 17326.8 | E35: 21246 | F35: 25752 | G35: 25752 | H35: 26088
B36: 3213 Stručno usavršavanje zaposlenika | D36: 5000 | E36: 0 | F36: 0 | G36: 0 | H36: 0
B37: 3223 Energija | D37: 10000 | E37: 10900 | F37: 20000 | G37: 20000 | H37: 20000
B38: 3224 Materijal i dijelovi za tekuće i investicijsko održavanje | D38: 0 | E38: 2491 | F38: 0 | G38: 0 | H38: 0
B39: 3225 Sitni inventar i auto gume | D39: 0 | E39: 0 | F39: 0 | G39: 0 | H39: 0
B40: 3232 Usluge tekućeg i investicijskog održavanja | D40: 8964 | E40: 8100 | F40: 3046 | G40: 0 | H40: 0
B41: 3234 Komunalne usluge | D41: 0 | E41: 35000 | F41: 10000 | G41: 0 | H41: 0
B42: 3237 Intelektualne i osobne usluge | D42: 6000 | E42: 6000 | F42: 10000 | G42: 10000 | H42: 9204
B43: 3238 Računalne usluge | D43: 21500 | E43: 0 | F43: 25000 | G43: 25000 | H43: 25000
B44: 3291 Naknade za rad predstavničkih i izvršnih tijela, povjerenstava i slično | D44: 0 | E44: 8970 | F44: 8842 | G44: 7555 | H44: 0
B45: 3292 Premije osiguranja | D45: 0 | E45: 0 | F45: 20000 | G45: 20000 | H45: 20000
B46: 4 Rashodi za nabavu nefinancijske imovine | D46: =SUM(D50,D47) -> 0 | E46: =SUM(E50,E47) -> 0 | F46: =SUM(F50,F47) -> 0 | G46: =SUM(G50,G47) -> 0 | H46: =SUM(H47,H50) -> 0
B47: 42 Rashodi za nabavu proizvedene dugotrajne imovine | D47: =SUM(D48:D49) -> 0 | E47: =SUM(E48:E49) -> 0 | F47: =SUM(F48:F49) -> 0 | G47: =SUM(G48:G49) -> 0 | H47: =SUM(H48:H49) -> 0
B48: 4221 Uredska oprema i namještaj | D48: 0 | E48: 0 | F48: 0 | G48: 0 | H48: 0
B49: 4227 Uređaji, strojevi i oprema za ostale namjene | D49: 0 | E49: 0 | F49: 0 | G49: 0 | H49: 0
B50: 45 Rashodi za dodatna ulaganja na nefinancijskoj imovini | D50: =D51 -> 0 | E50: =E51 -> 0 | F50: =SUM(F51) -> 0 | G50: =SUM(G51) -> 0 | H50: =SUM(H51) -> 0
B51: 4511 Dodatna ulaganja na građevinskim objektima | D51: 0 | E51: 0 | F51: 0 | G51: 0 | H51: 0
B52: A779047 - Administracija i upravljanje (iz evidencijskih prihoda) | D52: =SUM(D53,D104,D169,D232,D239) -> 493903.47 | E52: =SUM(E53,E104,E169,E232,E239) -> 684580 | F52: =SUM(F53,F104,F169,F232,F239) -> 677779 | G52: =SUM(G53,G104,G169,G232,G239) -> 906276 | H52: =SUM(H53,H104,H169,H232,H239) -> 895682
B53: Izvor: 3 Vlastiti prihodi | D53: =D54 -> 193249.35 | E53: =E54 -> 96867 | F53: =F54 -> 122023 | G53: =G54 -> 95000 | H53: =H54 -> 95000
B54: Izvor: 31 Vlastiti prihodi | D54: =SUM(D90,D55) -> 193249.35 | E54: =SUM(E90,E55) -> 96867 | F54: =SUM(F90,F55) -> 122023 | G54: =SUM(G90,G55) -> 95000 | H54: =SUM(H90,H55) -> 95000
B55: 3 Rashodi poslovanja | D55: =SUM(D60,D56,D86) -> 142876.72 | E55: =SUM(E60,E56,E86) -> 96867 | F55: =SUM(F60,F56,F86) -> 104600 | G55: =SUM(G60,G56,G86) -> 93600 | H55: =SUM(H60,H56,H86) -> 93600
B56: 31 Rashodi za zaposlene | D56: =SUM(D57:D59) -> 23956.38 | E56: =SUM(E57:E59) -> 25777 | F56: =SUM(F57:F59) -> 23802 | G56: =SUM(G57:G59) -> 24499 | H56: =SUM(H57:H59) -> 24204
B57: 3111 Plaće za redovan rad | D57: 19976.72 | E57: 21525 | F57: 19830 | G57: 20003 | H57: 20175
B58: 3121 Ostali rashodi za zaposlene | D58: 700 | E58: 700 | F58: 700 | G58: 1195 | H58: 700
B59: 3132 Doprinosi za obvezno zdravstveno osiguranje | D59: 3279.66 | E59: 3552 | F59: 3272 | G59: 3301 | H59: 3329
B60: 32 Materijalni rashodi | D60: =SUM(D61:D85) -> 116905.09 | E60: =SUM(E61:E85) -> 69188 | F60: =SUM(F61:F85) -> 78796 | G60: =SUM(G61:G85) -> 67099 | H60: =SUM(H61:H85) -> 67394
B61: 3211 Službena putovanja | D61: 3549.64 | E61: 3000 | F61: 3000 | G61: 5000 | H61: 5000
B62: 3212 Naknade za prijevoz, za rad na terenu i odvojeni život | D62: 1472.24 | E62: 1431 | F62: 1600 | G62: 1600 | H62: 1600
B63: 3213 Stručno usavršavanje zaposlenika | D63: 304 | E63: 3000 | F63: 2000 | G63: 2000 | H63: 2000
B64: 3214 Ostale naknade troškova zaposlenima | D64: 0 | E64: 0 | F64: 0 | G64: 0 | H64: 0
B65: 3221 Uredski materijal i ostali materijalni rashodi | D65: 3273.78 | E65: 1000 | F65: 3000 | G65: 3000 | H65: 3000
B66: 3222 Materijal i sirovine | D66: 14404.77 | E66: 5000 | F66: 9000 | G66: 9000 | H66: 9000
B67: 3223 Energija | D67: 9681.33 | E67: 5000 | F67: 2000 | G67: 2000 | H67: 2000
B68: 3224 Materijal i dijelovi za tekuće i investicijsko održavanje | D68: 7694.46 | E68: 2000 | F68: 5000 | G68: 5000 | H68: 5000
B69: 3225 Sitni inventar i auto gume | D69: 4506.4 | E69: 3000 | F69: 2000 | G69: 2000 | H69: 2000
B70: 3227 Službena, radna i zaštitna odjeća i obuća | D70: 534.31 | E70: 500 | F70: 1000 | G70: 1000 | H70: 1000
B71: 3231 Usluge telefona, pošte i prijevoza | D71: 3183.89 | E71: 1500 | F71: 2500 | G71: 2500 | H71: 2500
B72: 3232 Usluge tekućeg i investicijskog održavanja | D72: 1646 | E72: 3000 | F72: 10000 | G72: 5000 | H72: 5000
... B85: 3299 Ostali nespomenuti rashodi poslovanja | D85: 163.57 | E85: 0 | F85: 0 | G85: 0 | H85: 0
B86: 34 Financijski rashodi | D86: =SUM(D87:D89) -> 2015.25 | E86: =SUM(E87:E89) -> 1902 | F86: =SUM(F87:F89) -> 2002 | G86: =SUM(G87:G89) -> 2002 | H86: =SUM(H87:H89) -> 2002
B87: 3431 Bankarske usluge i usluge platnog prometa | D87: 2015.06 | E87: 1900 | F87: 2000 | G87: 2000 | H87: 2000
B88: 3432 Negativne tečajne razlike i razlike zbog primjene valutne klauzule | D88: 0.05 | E88: 0 | F88: 1 | G88: 1 | H88: 1
B89: 3433 Zatezne kamate | D89: 0.14 | E89: 2 | F89: 1 | G89: 1 | H89: 1
B90: 4 Rashodi za nabavu nefinancijske imovine | D90: =SUM(D91,D93,D102) -> 50372.63 | E90: =SUM(E91,E93,E102) -> 0 | F90: =SUM(F91,F93,F102) -> 17423 | G90: =SUM(G91,G93,G102) -> 1400 | H90: =SUM(H91,H93,H102) -> 1400
B91: 41 Rashodi za nabavu neproizvedene dugotrajne imovine | D91: =D92 -> 0 | E91: =E92 -> 0 | F91: =F92 -> 2500 | G91: =G92 -> 500 | H91: =H92 -> 500
B92: 4124 Ostala prava | D92: 0 | E92: 0 | F92: 2500 | G92: 500 | H92: 500
B93: 42 Rashodi za nabavu proizvedene dugotrajne imovine | D93: =SUM(D94:D101) -> 50372.63 | E93: =SUM(E94:E101) -> 0 | F93: =SUM(F94:F101) -> 14923 | G93: =SUM(G94:G101) -> 900 | H93: =SUM(H94:H101) -> 900
B94: 4214 Ostali građevinski objekti | D94: 1827 | E94: 0 | F94: 2820 | G94: 100 | H94: 100
B95: 4221 Uredska oprema i namještaj | D95: 0 | E95: 0 | F95: 1500 | G95: 100 | H95: 100
B96: 4222 Komunikacijska oprema | D96: 0 | E96: 0 | F96: 500 | G96: 500 | H96: 500
B97: 4223 Oprema za održavanje i zaštitu | D97: 0 | E97: 0 | F97: 100 | G97: 100 | H97: 100
B98: 4225 Instrumenti, uređaji i strojevi | D98: 0 | E98: 0 | F98: 0 | G98: 0 | H98: 0
B99: 4227 Uređaji, strojevi i oprema za ostale namjene | D99: 39072.03 | E99: 0 | F99: 100 | G99: 100 | H99: 100
B100: 4231 Prijevozna sredstva u cestovnom prometu | D100: 9473.6 | E100: 0 | F100: 9903 | G100: 0 | H100: 0
B101: 4264 Ostala nematerijalna proizvedena imovina | D101: 0 | E101: 0 | F101: 0 | G101: 0 | H101: 0
B102: 45 Rashodi za dodatna ulaganja na nefinancijskoj imovini | D102: =D103 -> 0 | E102: =E103 -> 0 | F102: =F103 -> 0 | G102: =G103 -> 0 | H102: =H103 -> 0
B103: 4511 Dodatna ulaganja na građevinskim objektima | D103: 0 | E103: 0 | F103: 0 | G103: 0 | H103: 0
B104: Izvor: 4 Prihodi posebne namjene | D104: =D105 -> 132196.07 | E104: =E105 -> 169553 | F104: =F105 -> 110000 | G104: =G105 -> 120000 | H104: =H105 -> 120000
B105: Izvor: 43 Ostali prihodi za posebne namjene | D105: =SUM(D106,D152) -> 132196.07 | E105: =SUM(E106,E152) -> 169553 | F105: =SUM(F106,F152) -> 110000 | G105: =SUM(G106,G152) -> 120000 | H105: =SUM(H106,H152) -> 120000
B106: 3 Rashodi poslovanja | D106: =SUM(D107,D112,D139,D142,D144,D146,D148) -> 102869.16 | E106: =SUM(E107,E112,E139,E142,E144,E146,E148) -> 135127 | F106: =SUM(F107,F112,F139,F142,F144,F146,F148) -> 104100 | G106: =SUM(G107,G112,G139,G142,G144,G146,G148) -> 116500 | H106: =SUM(H107,H112,H139,H142,H144,H146,H148) -> 116500
B107: 31 Rashodi za zaposlene | D107: =SUM(D108:D111) -> 47176.2 | E107: =SUM(E108:E111) -> 63208 | F107: =SUM(F108:F111) -> 78282 | G107: =SUM(G108:G111) -> 61924 | H107: =SUM(H108:H111) -> 62468
B108: 3111 Plaće za redovan rad | D108: 39366.9 | E108: 52934 | F108: 65152 | G108: 51523 | H108: 51990
B109: 3121 Ostali rashodi za zaposlene | D109: 1020 | E109: 1540 | F109: 2380 | G109: 1900 | H109: 1900
B110: 3131 Doprinosi za mirovinsko osiguranje | D110: 295.7 | E110: 0 | F110: 0 | G110: 0 | H110: 0
B111: 3132 Doprinosi za obvezno zdravstveno osiguranje | D111: 6493.6 | E111: 8734 | F111: 10750 | G111: 8501 | H111: 8578
B112: 32 Materijalni rashodi | D112: =SUM(D113:D138) -> 52638.33 | E112: =SUM(E113:E138) -> 68719 | F112: =SUM(F113:F138) -> 22718 | G112: =SUM(G113:G138) -> 51476 | H112: =SUM(H113:H138) -> 50932
B113: 3211 Službena putovanja | D113: 42.36 | E113: 700 | F113: 1000 | G113: 1000 | H113: 1000
B114: 3212 Naknade za prijevoz, za rad na terenu i odvojeni život | D114: 2254.01 | E114: 3669 | F114: 5861 | G114: 4888 | H114: 4888
B115: 3213 Stručno usavršavanje zaposlenika | D115: 0 | E115: 1000 | F115: 500 | G115: 500 | H115: 500
...
